BEGIN:VCALENDAR
VERSION:2.0
PRODID:-//Verein Burgdorf im Wandel - ECPv6.15.16//NONSGML v1.0//EN
CALSCALE:GREGORIAN
METHOD:PUBLISH
X-ORIGINAL-URL:https://burgdorf-im-wandel.ch
X-WR-CALDESC:Veranstaltungen im Verein Burgdorf im Wandel
REFRESH-INTERVAL;VALUE=DURATION:PT1H
X-Robots-Tag:noindex
X-PUBLISHED-TTL:PT1H
BEGIN:VTIMEZONE
TZID:Europe/Zurich
BEGIN:DAYLIGHT
TZOFFSETFROM:+0100
TZOFFSETTO:+0200
TZNAME:CEST
DTSTART:20240331T010000
END:DAYLIGHT
BEGIN:STANDARD
TZOFFSETFROM:+0200
TZOFFSETTO:+0100
TZNAME:CET
DTSTART:20241027T010000
END:STANDARD
BEGIN:DAYLIGHT
TZOFFSETFROM:+0100
TZOFFSETTO:+0200
TZNAME:CEST
DTSTART:20250330T010000
END:DAYLIGHT
BEGIN:STANDARD
TZOFFSETFROM:+0200
TZOFFSETTO:+0100
TZNAME:CET
DTSTART:20251026T010000
END:STANDARD
BEGIN:DAYLIGHT
TZOFFSETFROM:+0100
TZOFFSETTO:+0200
TZNAME:CEST
DTSTART:20260329T010000
END:DAYLIGHT
BEGIN:STANDARD
TZOFFSETFROM:+0200
TZOFFSETTO:+0100
TZNAME:CET
DTSTART:20261025T010000
END:STANDARD
END:VTIMEZONE
BEGIN:VEVENT
DTSTART;VALUE=DATE:20250614
DTEND;VALUE=DATE:20250615
DTSTAMP:20260420T163423
CREATED:20250217T161125Z
LAST-MODIFIED:20250217T161125Z
UID:24393-1749859200-1749945599@burgdorf-im-wandel.ch
SUMMARY:Exkursion Walopsee
DESCRIPTION:Oberhalb von Boltigen im Simmental liegt verträumt der Walopsee. Mit etwas Glück können wir hier vier verschiedene Schlangenarten beobachten. Daneben bietet auch die Flora und die Vogelwelt einige Leckerbissen. \nAbfahrt mit Privatautos ab Burgdorf um 7.00 \nAnmeldung bis 9.6.25 \nFlyer
URL:https://burgdorf-im-wandel.ch/agenda/exkursion-walopsee/
LOCATION:Burgdorf
ATTACH;FMTTYPE=image/png:https://burgdorf-im-wandel.ch/wp-content/uploads/2024/02/Logo-NVB-neu.png
ORGANIZER;CN="Natur- und Vogelschutz Burgdorf und Umgebung 3":MAILTO:nvb.burgdorf@gmx.ch
END:VEVENT
BEGIN:VEVENT
DTSTART;TZID=Europe/Zurich:20250614T103000
DTEND;TZID=Europe/Zurich:20250614T170000
DTSTAMP:20260420T163423
CREATED:20250204T095600Z
LAST-MODIFIED:20250204T095600Z
UID:24292-1749897000-1749920400@burgdorf-im-wandel.ch
SUMMARY:Natureinsatz auf dem Bauernhof
DESCRIPTION:10.30 Uhr: offener Garten “Sommerhaus”\nAndreas Buri führt durch seinen naturnah gestalteten\nFamiliengarten. Dabei kommen persönliche Geschichten zur Entstehung und der Funktion der einzelnen Gartenelemente nicht zu kurz. \nLeitung: Andreas Buri\, Gartenbautechniker\nDauer: Der Garten ist den ganzen Tag offen\, Führung\num 10.30 Uhr\nTreffpunkt: Äusseres Sommerhaus 2\, Burgdorf\nAnlass ohne Anmeldung \nFlyer
URL:https://burgdorf-im-wandel.ch/agenda/natureinsatz-auf-dem-bauernhof-2/
LOCATION:Bauernhof\, Rumendingen\, Rumendingen
ATTACH;FMTTYPE=image/jpeg:https://burgdorf-im-wandel.ch/wp-content/uploads/2023/02/prona-logo_uem_rgb-e1709553199526.jpg
ORGANIZER;CN="Pro Natura Unteremmental":MAILTO:hedinger@bluewin.ch
END:VEVENT
END:VCALENDAR