BEGIN:VCALENDAR
VERSION:2.0
PRODID:-//Verein Burgdorf im Wandel - ECPv6.15.16//NONSGML v1.0//EN
CALSCALE:GREGORIAN
METHOD:PUBLISH
X-ORIGINAL-URL:https://burgdorf-im-wandel.ch
X-WR-CALDESC:Veranstaltungen im Verein Burgdorf im Wandel
REFRESH-INTERVAL;VALUE=DURATION:PT1H
X-Robots-Tag:noindex
X-PUBLISHED-TTL:PT1H
BEGIN:VTIMEZONE
TZID:Europe/Zurich
BEGIN:DAYLIGHT
TZOFFSETFROM:+0100
TZOFFSETTO:+0200
TZNAME:CEST
DTSTART:20240331T010000
END:DAYLIGHT
BEGIN:STANDARD
TZOFFSETFROM:+0200
TZOFFSETTO:+0100
TZNAME:CET
DTSTART:20241027T010000
END:STANDARD
BEGIN:DAYLIGHT
TZOFFSETFROM:+0100
TZOFFSETTO:+0200
TZNAME:CEST
DTSTART:20250330T010000
END:DAYLIGHT
BEGIN:STANDARD
TZOFFSETFROM:+0200
TZOFFSETTO:+0100
TZNAME:CET
DTSTART:20251026T010000
END:STANDARD
BEGIN:DAYLIGHT
TZOFFSETFROM:+0100
TZOFFSETTO:+0200
TZNAME:CEST
DTSTART:20260329T010000
END:DAYLIGHT
BEGIN:STANDARD
TZOFFSETFROM:+0200
TZOFFSETTO:+0100
TZNAME:CET
DTSTART:20261025T010000
END:STANDARD
END:VTIMEZONE
BEGIN:VEVENT
DTSTART;VALUE=DATE:20251025
DTEND;VALUE=DATE:20251026
DTSTAMP:20260420T212246
CREATED:20250107T093503Z
LAST-MODIFIED:20250107T111101Z
UID:24198-1761350400-1761436799@burgdorf-im-wandel.ch
SUMMARY:Naturschutzgebietspflege - Sängeliweiher
DESCRIPTION:Jäten von Schilf und Rohrkolben. Heckenpflege. \nNasses Gelände! \n  \nTreffpunkt: 8.00 h beim Magazin Sägegasse 17\, 3400 Burgdorf oder \n8.30 direkt vor Ort. \nAnmeldeschluss: 20. Oktober 2025 \nFlyer
URL:https://burgdorf-im-wandel.ch/agenda/naturschutzgebietspflege-saengeliweiher/
LOCATION:Sängeliweiher
END:VEVENT
BEGIN:VEVENT
DTSTART;TZID=Europe/Zurich:20251025T140000
DTEND;TZID=Europe/Zurich:20251025T160000
DTSTAMP:20260420T212246
CREATED:20250818T153412Z
LAST-MODIFIED:20250912T163416Z
UID:24638-1761400800-1761408000@burgdorf-im-wandel.ch
SUMMARY:Baumspaziergang in Burgdorf
DESCRIPTION:Burgdorf im Wandel lädt ein zum Baumspaziergang!\nWir besuchen bemerkenswerte Bäume in Burgdorf\nund entdecken sie mit allen Sinnen.\nAnschliessend Zvieri auf der Gebrüder Schnell Terrasse\,\nbei Regenwetter unter der Marktlaube.\nAbschluss um ca. 16 Uhr.\nSei dabei! Wir freuen uns auf Dich. \nTreffpunkt:  14.00 Gebrüder Schnell Terrasse \nAnmeldung ist nicht nötig. \n  \nFlyer \n  \n  \n 
URL:https://burgdorf-im-wandel.ch/agenda/baumspaziergang-in-burgdo5rf/
LOCATION:Burgdorf
ATTACH;FMTTYPE=image/png:https://burgdorf-im-wandel.ch/wp-content/uploads/2023/04/cropped-favicon.png
ORGANIZER;CN="Burgdorf im Wandel":MAILTO:info@burgdorf-im-wandel.ch
END:VEVENT
END:VCALENDAR