BEGIN:VCALENDAR
VERSION:2.0
PRODID:-//Verein Burgdorf im Wandel - ECPv6.15.16//NONSGML v1.0//EN
CALSCALE:GREGORIAN
METHOD:PUBLISH
X-WR-CALNAME:Verein Burgdorf im Wandel
X-ORIGINAL-URL:https://burgdorf-im-wandel.ch
X-WR-CALDESC:Veranstaltungen im Verein Burgdorf im Wandel
REFRESH-INTERVAL;VALUE=DURATION:PT1H
X-Robots-Tag:noindex
X-PUBLISHED-TTL:PT1H
BEGIN:VTIMEZONE
TZID:Europe/Zurich
BEGIN:DAYLIGHT
TZOFFSETFROM:+0100
TZOFFSETTO:+0200
TZNAME:CEST
DTSTART:20240331T010000
END:DAYLIGHT
BEGIN:STANDARD
TZOFFSETFROM:+0200
TZOFFSETTO:+0100
TZNAME:CET
DTSTART:20241027T010000
END:STANDARD
BEGIN:DAYLIGHT
TZOFFSETFROM:+0100
TZOFFSETTO:+0200
TZNAME:CEST
DTSTART:20250330T010000
END:DAYLIGHT
BEGIN:STANDARD
TZOFFSETFROM:+0200
TZOFFSETTO:+0100
TZNAME:CET
DTSTART:20251026T010000
END:STANDARD
BEGIN:DAYLIGHT
TZOFFSETFROM:+0100
TZOFFSETTO:+0200
TZNAME:CEST
DTSTART:20260329T010000
END:DAYLIGHT
BEGIN:STANDARD
TZOFFSETFROM:+0200
TZOFFSETTO:+0100
TZNAME:CET
DTSTART:20261025T010000
END:STANDARD
END:VTIMEZONE
BEGIN:VEVENT
DTSTART;TZID=Europe/Zurich:20251107T193000
DTEND;TZID=Europe/Zurich:20251107T210000
DTSTAMP:20260422T105124
CREATED:20250217T155209Z
LAST-MODIFIED:20250217T155209Z
UID:24384-1762543800-1762549200@burgdorf-im-wandel.ch
SUMMARY:Lea Maronde und die Wildkatze
DESCRIPTION:Lea Maronde erzählt uns Spannendes über das heimliche Leben der Wildkatze\, die sich langsam aber heimlich ausbreitet. \nFlyer
URL:https://burgdorf-im-wandel.ch/agenda/lea-maronde-und-die-wildkatze/
LOCATION:Kirchengemeindhaus Burgdorf\, Lyssachstrasse 2\, 3400
ATTACH;FMTTYPE=image/png:https://burgdorf-im-wandel.ch/wp-content/uploads/2024/02/Logo-NVB-neu.png
ORGANIZER;CN="Natur- und Vogelschutz Burgdorf und Umgebung 1":MAILTO:eichele.m@bluewin.ch
END:VEVENT
END:VCALENDAR