BEGIN:VCALENDAR
VERSION:2.0
PRODID:-//Verein Burgdorf im Wandel - ECPv6.15.16//NONSGML v1.0//EN
CALSCALE:GREGORIAN
METHOD:PUBLISH
X-WR-CALNAME:Verein Burgdorf im Wandel
X-ORIGINAL-URL:https://burgdorf-im-wandel.ch
X-WR-CALDESC:Veranstaltungen im Verein Burgdorf im Wandel
REFRESH-INTERVAL;VALUE=DURATION:PT1H
X-Robots-Tag:noindex
X-PUBLISHED-TTL:PT1H
BEGIN:VTIMEZONE
TZID:Europe/Zurich
BEGIN:DAYLIGHT
TZOFFSETFROM:+0100
TZOFFSETTO:+0200
TZNAME:CEST
DTSTART:20240331T010000
END:DAYLIGHT
BEGIN:STANDARD
TZOFFSETFROM:+0200
TZOFFSETTO:+0100
TZNAME:CET
DTSTART:20241027T010000
END:STANDARD
BEGIN:DAYLIGHT
TZOFFSETFROM:+0100
TZOFFSETTO:+0200
TZNAME:CEST
DTSTART:20250330T010000
END:DAYLIGHT
BEGIN:STANDARD
TZOFFSETFROM:+0200
TZOFFSETTO:+0100
TZNAME:CET
DTSTART:20251026T010000
END:STANDARD
BEGIN:DAYLIGHT
TZOFFSETFROM:+0100
TZOFFSETTO:+0200
TZNAME:CEST
DTSTART:20260329T010000
END:DAYLIGHT
BEGIN:STANDARD
TZOFFSETFROM:+0200
TZOFFSETTO:+0100
TZNAME:CET
DTSTART:20261025T010000
END:STANDARD
END:VTIMEZONE
BEGIN:VEVENT
DTSTART;TZID=Europe/Zurich:20251130T140000
DTEND;TZID=Europe/Zurich:20251130T160000
DTSTAMP:20260420T233303
CREATED:20251111T190839Z
LAST-MODIFIED:20251111T190839Z
UID:24901-1764511200-1764518400@burgdorf-im-wandel.ch
SUMMARY:Kinderflohmarkt
DESCRIPTION:Kinder verkaufen ihre Spielsachen. \nGrösster Kinderflohmarkt in der Region. \nVerpflegungsstand mit Hotdogs\, Getränken\, Kaffee und Kuchen. \n  \nInformationen für Verkaufende: \nhttp://kinderflohmarkt-burgdorf.ch \nhttp://facebook.com/kinderflohmarktburgdorf \n 
URL:https://burgdorf-im-wandel.ch/agenda/kinderflohmarkt-3/
LOCATION:Markthalle\, Sägegasse 19\, Burgdorf\, 3400
END:VEVENT
END:VCALENDAR