BEGIN:VCALENDAR
VERSION:2.0
PRODID:-//Verein Burgdorf im Wandel - ECPv6.15.16//NONSGML v1.0//EN
CALSCALE:GREGORIAN
METHOD:PUBLISH
X-WR-CALNAME:Verein Burgdorf im Wandel
X-ORIGINAL-URL:https://burgdorf-im-wandel.ch
X-WR-CALDESC:Veranstaltungen im Verein Burgdorf im Wandel
REFRESH-INTERVAL;VALUE=DURATION:PT1H
X-Robots-Tag:noindex
X-PUBLISHED-TTL:PT1H
BEGIN:VTIMEZONE
TZID:Europe/Zurich
BEGIN:DAYLIGHT
TZOFFSETFROM:+0100
TZOFFSETTO:+0200
TZNAME:CEST
DTSTART:20240331T010000
END:DAYLIGHT
BEGIN:STANDARD
TZOFFSETFROM:+0200
TZOFFSETTO:+0100
TZNAME:CET
DTSTART:20241027T010000
END:STANDARD
BEGIN:DAYLIGHT
TZOFFSETFROM:+0100
TZOFFSETTO:+0200
TZNAME:CEST
DTSTART:20250330T010000
END:DAYLIGHT
BEGIN:STANDARD
TZOFFSETFROM:+0200
TZOFFSETTO:+0100
TZNAME:CET
DTSTART:20251026T010000
END:STANDARD
BEGIN:DAYLIGHT
TZOFFSETFROM:+0100
TZOFFSETTO:+0200
TZNAME:CEST
DTSTART:20260329T010000
END:DAYLIGHT
BEGIN:STANDARD
TZOFFSETFROM:+0200
TZOFFSETTO:+0100
TZNAME:CET
DTSTART:20261025T010000
END:STANDARD
END:VTIMEZONE
BEGIN:VEVENT
DTSTART;TZID=Europe/Zurich:20251206T103000
DTEND;TZID=Europe/Zurich:20251206T120000
DTSTAMP:20260424T124626
CREATED:20250912T051949Z
LAST-MODIFIED:20250912T052649Z
UID:24759-1765017000-1765022400@burgdorf-im-wandel.ch
SUMMARY:Erzähl Pause im Geschichtenladen
DESCRIPTION:Der Geschichtenladen an der\nMühlegasse 16 lädt dich\nam Samstagmorgen zu einer\nEinkaufspause ein: in gemütlicher\nUmgebung Geschichten\nlauschen\, in ferne Länder\,\nZeiten und Leben abtauchen\nund sich im Austausch mit anderen\nanregen lassen. \nDrei Kurzlesungen um 10.30 Uhr\, 11.00 Uhr und\n11.30 Uhr öffnen neue literarische Fenster.\nLass dich am Samstagmorgen bei Kaffee und Tee\nüberraschen.\nMöchtest du selber einen kurzen Text aus einem\nBuch\, einer Zeitschrift etc. vorlesen (lassen)\,\nder dich berührt und den du gerne teilen möchtest?\nMelde dich bei Thomas Studer:\nthom.studer@bluewin.ch\nDeine Gastgeber:innen:\nMechthild Greven\nThomas Studer\nVerena Singeisen \n 
URL:https://burgdorf-im-wandel.ch/agenda/erzaehl-pause-im-geschichtenladen/
LOCATION:Mühlegasse 16\, Burgdorf\, Mühlegasse 16\, 3400 Burgdorf\, 3400
ATTACH;FMTTYPE=application/pdf:https://burgdorf-im-wandel.ch/wp-content/uploads/2025/09/Karte_A6-1.pdf
ORGANIZER;CN="Geschichtenladen":MAILTO:Thom.Studer@bluewin.ch
END:VEVENT
BEGIN:VEVENT
DTSTART;TZID=Europe/Zurich:20251206T180000
DTEND;TZID=Europe/Zurich:20251206T230000
DTSTAMP:20260424T124626
CREATED:20250107T094320Z
LAST-MODIFIED:20250107T111245Z
UID:24202-1765044000-1765062000@burgdorf-im-wandel.ch
SUMMARY:Naturschutzgebietspflege  Jahreshöck
DESCRIPTION:Gemeinsames Nachtessen mit Jahresrückblick. \nEinladung folgt mit separatem Schreiben. \nDetails und Einladung folgen \nFlyer
URL:https://burgdorf-im-wandel.ch/agenda/naturschutzgebietspflege-jahreshoeck-2/
LOCATION:Ort noch offen
END:VEVENT
END:VCALENDAR