BEGIN:VCALENDAR
VERSION:2.0
PRODID:-//Verein Burgdorf im Wandel - ECPv6.15.16//NONSGML v1.0//EN
CALSCALE:GREGORIAN
METHOD:PUBLISH
X-WR-CALNAME:Verein Burgdorf im Wandel
X-ORIGINAL-URL:https://burgdorf-im-wandel.ch
X-WR-CALDESC:Veranstaltungen im Verein Burgdorf im Wandel
REFRESH-INTERVAL;VALUE=DURATION:PT1H
X-Robots-Tag:noindex
X-PUBLISHED-TTL:PT1H
BEGIN:VTIMEZONE
TZID:Europe/Zurich
BEGIN:DAYLIGHT
TZOFFSETFROM:+0100
TZOFFSETTO:+0200
TZNAME:CEST
DTSTART:20250330T010000
END:DAYLIGHT
BEGIN:STANDARD
TZOFFSETFROM:+0200
TZOFFSETTO:+0100
TZNAME:CET
DTSTART:20251026T010000
END:STANDARD
BEGIN:DAYLIGHT
TZOFFSETFROM:+0100
TZOFFSETTO:+0200
TZNAME:CEST
DTSTART:20260329T010000
END:DAYLIGHT
BEGIN:STANDARD
TZOFFSETFROM:+0200
TZOFFSETTO:+0100
TZNAME:CET
DTSTART:20261025T010000
END:STANDARD
BEGIN:DAYLIGHT
TZOFFSETFROM:+0100
TZOFFSETTO:+0200
TZNAME:CEST
DTSTART:20270328T010000
END:DAYLIGHT
BEGIN:STANDARD
TZOFFSETFROM:+0200
TZOFFSETTO:+0100
TZNAME:CET
DTSTART:20271031T010000
END:STANDARD
END:VTIMEZONE
BEGIN:VEVENT
DTSTART;TZID=Europe/Zurich:20260101T000000
DTEND;TZID=Europe/Zurich:20260131T000000
DTSTAMP:20260421T033115
CREATED:20251205T154403Z
LAST-MODIFIED:20251205T154403Z
UID:24932-1767225600-1769817600@burgdorf-im-wandel.ch
SUMMARY:Veganer Januar - möchtest du Neues erfahren?
DESCRIPTION:Der Veganuary ist eine weltweite Bewegung\, die Menschen dazu einlädt\, den Januar pflanzlich zu gestalten. Ziel ist es\, neue Gewohnheiten auszuprobieren\, die Umwelt zu schonen\, Tiere zu schützen und die Gesundheit zu fördern. \nDu kannst dich für diesen Monat kostenlos anmelden\, erhältst dann jeden Tag eine Mail mit Tipps\, Anregungen und wirst über Aktionen in der Schweiz informiert. \nAnmeldung unter:   www.veganuary.ch \n  \n(Diese Mail kannst du auch jederzeit wieder abbestellen!) \n 
URL:https://burgdorf-im-wandel.ch/agenda/veganer-januar-moechtest-du-neues-erfahren/
LOCATION:bei dir zu Hause
END:VEVENT
END:VCALENDAR