BEGIN:VCALENDAR
VERSION:2.0
PRODID:-//Verein Burgdorf im Wandel - ECPv6.15.16//NONSGML v1.0//EN
CALSCALE:GREGORIAN
METHOD:PUBLISH
X-ORIGINAL-URL:https://burgdorf-im-wandel.ch
X-WR-CALDESC:Veranstaltungen im Verein Burgdorf im Wandel
REFRESH-INTERVAL;VALUE=DURATION:PT1H
X-Robots-Tag:noindex
X-PUBLISHED-TTL:PT1H
BEGIN:VTIMEZONE
TZID:Europe/Zurich
BEGIN:DAYLIGHT
TZOFFSETFROM:+0100
TZOFFSETTO:+0200
TZNAME:CEST
DTSTART:20250330T010000
END:DAYLIGHT
BEGIN:STANDARD
TZOFFSETFROM:+0200
TZOFFSETTO:+0100
TZNAME:CET
DTSTART:20251026T010000
END:STANDARD
BEGIN:DAYLIGHT
TZOFFSETFROM:+0100
TZOFFSETTO:+0200
TZNAME:CEST
DTSTART:20260329T010000
END:DAYLIGHT
BEGIN:STANDARD
TZOFFSETFROM:+0200
TZOFFSETTO:+0100
TZNAME:CET
DTSTART:20261025T010000
END:STANDARD
BEGIN:DAYLIGHT
TZOFFSETFROM:+0100
TZOFFSETTO:+0200
TZNAME:CEST
DTSTART:20270328T010000
END:DAYLIGHT
BEGIN:STANDARD
TZOFFSETFROM:+0200
TZOFFSETTO:+0100
TZNAME:CET
DTSTART:20271031T010000
END:STANDARD
END:VTIMEZONE
BEGIN:VEVENT
DTSTART;TZID=Europe/Zurich:20260131T140000
DTEND;TZID=Europe/Zurich:20260131T180000
DTSTAMP:20260421T033508
CREATED:20260118T184356Z
LAST-MODIFIED:20260128T095223Z
UID:24996-1769868000-1769882400@burgdorf-im-wandel.ch
SUMMARY:Nähatelier - Gemeinsam gegen Fast Fashion!
DESCRIPTION:Statt wegwerfen und neu kaufen heisst es hier: kreativ werden! \nBringe deine alten Kleider mit und hol dir von erfahrenen Näher*innen Tipps\, wie du sie reparieren oder neu gestalten kannst. \nNeben Tipps und Tricks stehen dir einige Nähmaschinen sowie einzelne weitere Utensilien zur Verfügung um dein Projekt erfolgreich umzusetzen. \nFlyer
URL:https://burgdorf-im-wandel.ch/agenda/naehatelier-gemeinsam-gegen-fast-fashion/
LOCATION:El Beledia\, Kornhausgasse 12\, Burgdorf\, 3400
ATTACH;FMTTYPE=image/jpeg:https://burgdorf-im-wandel.ch/wp-content/uploads/2025/03/Logo-mit-Schrift-2025.jpg
END:VEVENT
END:VCALENDAR