BEGIN:VCALENDAR
VERSION:2.0
PRODID:-//Verein Burgdorf im Wandel - ECPv6.15.16//NONSGML v1.0//EN
CALSCALE:GREGORIAN
METHOD:PUBLISH
X-ORIGINAL-URL:https://burgdorf-im-wandel.ch
X-WR-CALDESC:Veranstaltungen im Verein Burgdorf im Wandel
REFRESH-INTERVAL;VALUE=DURATION:PT1H
X-Robots-Tag:noindex
X-PUBLISHED-TTL:PT1H
BEGIN:VTIMEZONE
TZID:Europe/Zurich
BEGIN:DAYLIGHT
TZOFFSETFROM:+0100
TZOFFSETTO:+0200
TZNAME:CEST
DTSTART:20250330T010000
END:DAYLIGHT
BEGIN:STANDARD
TZOFFSETFROM:+0200
TZOFFSETTO:+0100
TZNAME:CET
DTSTART:20251026T010000
END:STANDARD
BEGIN:DAYLIGHT
TZOFFSETFROM:+0100
TZOFFSETTO:+0200
TZNAME:CEST
DTSTART:20260329T010000
END:DAYLIGHT
BEGIN:STANDARD
TZOFFSETFROM:+0200
TZOFFSETTO:+0100
TZNAME:CET
DTSTART:20261025T010000
END:STANDARD
BEGIN:DAYLIGHT
TZOFFSETFROM:+0100
TZOFFSETTO:+0200
TZNAME:CEST
DTSTART:20270328T010000
END:DAYLIGHT
BEGIN:STANDARD
TZOFFSETFROM:+0200
TZOFFSETTO:+0100
TZNAME:CET
DTSTART:20271031T010000
END:STANDARD
END:VTIMEZONE
BEGIN:VEVENT
DTSTART;TZID=Europe/Zurich:20260307T090000
DTEND;TZID=Europe/Zurich:20260307T160000
DTSTAMP:20260421T112542
CREATED:20260214T154744Z
LAST-MODIFIED:20260214T155426Z
UID:25044-1772874000-1772899200@burgdorf-im-wandel.ch
SUMMARY:Pflegeeinsatz Rosshängibach
DESCRIPTION:Die Ringelnatter ist wieder da! Doch sie braucht\nentlang des Gewässers und an den Teichen Asthaufen.\nWir schaffen Sonnenplätze entlang des Baches.\nEinsatz mit der FNP. \nMitbringen: Arbeitshandschuhe\, wer hat.\nHalbtageseinsatz möglich.\nAnmelden bis 3. März bei Manfred Eichele\n031 767 71 34\, eichele.m@bluewin.ch \nFlyer \n  \n  \n 
URL:https://burgdorf-im-wandel.ch/agenda/pflegeeinsatz-rosshaengibach-3/
ATTACH;FMTTYPE=image/png:https://burgdorf-im-wandel.ch/wp-content/uploads/2024/02/Logo-NVB-neu.png
ORGANIZER;CN="Natur- und Vogelschutz Burgdorf und Umgebung 2":MAILTO:milvus72@gmx.ch
END:VEVENT
END:VCALENDAR