BEGIN:VCALENDAR
VERSION:2.0
PRODID:-//Verein Burgdorf im Wandel - ECPv6.15.16//NONSGML v1.0//EN
CALSCALE:GREGORIAN
METHOD:PUBLISH
X-ORIGINAL-URL:https://burgdorf-im-wandel.ch
X-WR-CALDESC:Veranstaltungen im Verein Burgdorf im Wandel
REFRESH-INTERVAL;VALUE=DURATION:PT1H
X-Robots-Tag:noindex
X-PUBLISHED-TTL:PT1H
BEGIN:VTIMEZONE
TZID:Europe/Zurich
BEGIN:DAYLIGHT
TZOFFSETFROM:+0100
TZOFFSETTO:+0200
TZNAME:CEST
DTSTART:20250330T010000
END:DAYLIGHT
BEGIN:STANDARD
TZOFFSETFROM:+0200
TZOFFSETTO:+0100
TZNAME:CET
DTSTART:20251026T010000
END:STANDARD
BEGIN:DAYLIGHT
TZOFFSETFROM:+0100
TZOFFSETTO:+0200
TZNAME:CEST
DTSTART:20260329T010000
END:DAYLIGHT
BEGIN:STANDARD
TZOFFSETFROM:+0200
TZOFFSETTO:+0100
TZNAME:CET
DTSTART:20261025T010000
END:STANDARD
BEGIN:DAYLIGHT
TZOFFSETFROM:+0100
TZOFFSETTO:+0200
TZNAME:CEST
DTSTART:20270328T010000
END:DAYLIGHT
BEGIN:STANDARD
TZOFFSETFROM:+0200
TZOFFSETTO:+0100
TZNAME:CET
DTSTART:20271031T010000
END:STANDARD
END:VTIMEZONE
BEGIN:VEVENT
DTSTART;VALUE=DATE:20261003
DTEND;VALUE=DATE:20261004
DTSTAMP:20260421T170834
CREATED:20260214T162632Z
LAST-MODIFIED:20260214T162632Z
UID:25071-1790985600-1791071999@burgdorf-im-wandel.ch
SUMMARY:Die Churfirsten verstehen
DESCRIPTION:Wir sind schon zig Mal per Bahn an ihnen vorbeigefahren\nund das Geologieherz hat sich beim Anblick\ndes imposanten Zackenpanoramas gewünscht\,\nsie lesen zu können. Jetzt ist die Gelegenheit da:\nVom Seeufer in Quinten aus erklärt uns Christian den\nAufbau der Churfirsten am Walensee.\nInfos und Kosten siehe Flyer.\nAnmelden bei Marianne Dafflon\n076 421 24 86\, dafflon-prisching@bluewin.ch \nFlyer
URL:https://burgdorf-im-wandel.ch/agenda/die-churfirsten-verstehen/
LOCATION:Walensee
ATTACH;FMTTYPE=image/png:https://burgdorf-im-wandel.ch/wp-content/uploads/2024/02/Logo-NVB-neu.png
ORGANIZER;CN="Natur- und Vogelschutz Burgdorf und Umgebung 3":MAILTO:nvb.burgdorf@gmx.ch
END:VEVENT
BEGIN:VEVENT
DTSTART;VALUE=DATE:20261003
DTEND;VALUE=DATE:20261004
DTSTAMP:20260421T170834
CREATED:20260112T200654Z
LAST-MODIFIED:20260112T203101Z
UID:24973-1790985600-1791071999@burgdorf-im-wandel.ch
SUMMARY:Bickigenmatte - Naturschutzgebietspflege
DESCRIPTION:Heckenpflege und Kopfweiden schneiden – Rohrkolben jäten. \nTreffpunkt: 8.00 h beim Magazin Sägegasse 17\, 3400 Burgdorf  – oder 8.15 h direkt vor Ort. \nAnmeldeschluss: 28.September 2026
URL:https://burgdorf-im-wandel.ch/agenda/bickigenmatte-naturschutzgebietspflege-2/
LOCATION:Bickigenmatte
ATTACH;FMTTYPE=image/png:https://burgdorf-im-wandel.ch/wp-content/uploads/2024/08/Logo_fnp-fna.png
END:VEVENT
END:VCALENDAR