BEGIN:VCALENDAR
VERSION:2.0
PRODID:-//Verein Burgdorf im Wandel - ECPv6.15.16//NONSGML v1.0//EN
CALSCALE:GREGORIAN
METHOD:PUBLISH
X-ORIGINAL-URL:https://burgdorf-im-wandel.ch
X-WR-CALDESC:Veranstaltungen im Verein Burgdorf im Wandel
REFRESH-INTERVAL;VALUE=DURATION:PT1H
X-Robots-Tag:noindex
X-PUBLISHED-TTL:PT1H
BEGIN:VTIMEZONE
TZID:Europe/Zurich
BEGIN:DAYLIGHT
TZOFFSETFROM:+0100
TZOFFSETTO:+0200
TZNAME:CEST
DTSTART:20260329T010000
END:DAYLIGHT
BEGIN:STANDARD
TZOFFSETFROM:+0200
TZOFFSETTO:+0100
TZNAME:CET
DTSTART:20261025T010000
END:STANDARD
BEGIN:DAYLIGHT
TZOFFSETFROM:+0100
TZOFFSETTO:+0200
TZNAME:CEST
DTSTART:20270328T010000
END:DAYLIGHT
BEGIN:STANDARD
TZOFFSETFROM:+0200
TZOFFSETTO:+0100
TZNAME:CET
DTSTART:20271031T010000
END:STANDARD
BEGIN:DAYLIGHT
TZOFFSETFROM:+0100
TZOFFSETTO:+0200
TZNAME:CEST
DTSTART:20280326T010000
END:DAYLIGHT
BEGIN:STANDARD
TZOFFSETFROM:+0200
TZOFFSETTO:+0100
TZNAME:CET
DTSTART:20281029T010000
END:STANDARD
END:VTIMEZONE
BEGIN:VEVENT
DTSTART;TZID=Europe/Zurich:20270110T140000
DTEND;TZID=Europe/Zurich:20270110T170000
DTSTAMP:20260422T032719
CREATED:20260126T115350Z
LAST-MODIFIED:20260126T115350Z
UID:25032-1799589600-1799600400@burgdorf-im-wandel.ch
SUMMARY:Jahreszeitenrundgang Winter
DESCRIPTION:Die Jahreszeitenbilder im Museum Franz Gertsch als Ausgangspunkt und Inspiration. Zu allen vier Jahreszeiten erleben wir auf dem gleichen Rundgang bekannte und überraschende Zusammenhänge in der Natur. Wiese\, Wald\, Emme begegnen uns immer wieder neu. \n14.00 kurzer Besuch im Museum anschliessend Spaziergang ca. 3.5km. \nKosten Fr. 10.- pro Person inkl. Museumseintritt \nAnmeldung 1 Woche vor dem Anlass unter: unteremmental@pronatura.ch \nFlyer
URL:https://burgdorf-im-wandel.ch/agenda/jahreszeitenrundgang-winter/
LOCATION:Gertsch Museum
ATTACH;FMTTYPE=image/jpeg:https://burgdorf-im-wandel.ch/wp-content/uploads/2023/02/prona-logo_uem_rgb-e1709553199526.jpg
ORGANIZER;CN="Pro Natura Unteremmental":MAILTO:hedinger@bluewin.ch
END:VEVENT
END:VCALENDAR