BEGIN:VCALENDAR
VERSION:2.0
PRODID:-//Verein Burgdorf im Wandel - ECPv6.15.16//NONSGML v1.0//EN
CALSCALE:GREGORIAN
METHOD:PUBLISH
X-WR-CALNAME:Verein Burgdorf im Wandel
X-ORIGINAL-URL:https://burgdorf-im-wandel.ch
X-WR-CALDESC:Veranstaltungen im Verein Burgdorf im Wandel
REFRESH-INTERVAL;VALUE=DURATION:PT1H
X-Robots-Tag:noindex
X-PUBLISHED-TTL:PT1H
BEGIN:VTIMEZONE
TZID:Europe/Zurich
BEGIN:DAYLIGHT
TZOFFSETFROM:+0100
TZOFFSETTO:+0200
TZNAME:CEST
DTSTART:20220327T010000
END:DAYLIGHT
BEGIN:STANDARD
TZOFFSETFROM:+0200
TZOFFSETTO:+0100
TZNAME:CET
DTSTART:20221030T010000
END:STANDARD
BEGIN:DAYLIGHT
TZOFFSETFROM:+0100
TZOFFSETTO:+0200
TZNAME:CEST
DTSTART:20230326T010000
END:DAYLIGHT
BEGIN:STANDARD
TZOFFSETFROM:+0200
TZOFFSETTO:+0100
TZNAME:CET
DTSTART:20231029T010000
END:STANDARD
BEGIN:DAYLIGHT
TZOFFSETFROM:+0100
TZOFFSETTO:+0200
TZNAME:CEST
DTSTART:20240331T010000
END:DAYLIGHT
BEGIN:STANDARD
TZOFFSETFROM:+0200
TZOFFSETTO:+0100
TZNAME:CET
DTSTART:20241027T010000
END:STANDARD
END:VTIMEZONE
BEGIN:VEVENT
DTSTART;TZID=Europe/Zurich:20230512T133000
DTEND;TZID=Europe/Zurich:20230512T163000
DTSTAMP:20260420T064906
CREATED:20230206T155207Z
LAST-MODIFIED:20230206T155207Z
UID:22721-1683898200-1683909000@burgdorf-im-wandel.ch
SUMMARY:Brockenstube
DESCRIPTION:Die Brockenstube wird von freiwilligen MitarbeiterInnen des GFV geführt. Der Reinerlös kommt vollumfänglich sozialen Projekten und Institutionen zu Gute. \nDas Sortiment ist reichhaltig und günstig: Kleider\, Schuhe\, Schmuck\, Spielwaren\, Hausrat\, Bücher\, Möbel\, Antiquitäten und Raritäten….
URL:https://burgdorf-im-wandel.ch/agenda/brockenstube-8/
LOCATION:Brockenstube\, Dammstrasse 60\, Burgdorf\, 3400\, Switzerland
ATTACH;FMTTYPE=image/jpeg:https://burgdorf-im-wandel.ch/wp-content/uploads/2023/01/Logo_Gemeinnuetziger_Frauenverein_Burgdorf-e1675698274446.jpg
END:VEVENT
BEGIN:VEVENT
DTSTART;TZID=Europe/Zurich:20230507T103000
DTEND;TZID=Europe/Zurich:20230507T130000
DTSTAMP:20260420T064906
CREATED:20230313T164621Z
LAST-MODIFIED:20230419T132206Z
UID:22831-1683455400-1683464400@burgdorf-im-wandel.ch
SUMMARY:Everything will change - Film und Diskussion
DESCRIPTION:Wir zeigen den Film Everthing will change und diskutieren die Frage: Wie wollen wir in Burgdorf 2054 gelebt haben? \nHier findest du den Flyer zur Veranstaltung.
URL:https://burgdorf-im-wandel.ch/agenda/everything-will-change-film-und-diskussion/
LOCATION:Kino Krone\, Hohengasse 25\, Burgdorf\, 3400
ATTACH;FMTTYPE=image/png:https://burgdorf-im-wandel.ch/wp-content/uploads/2022/09/Film-Matinee-am-7.-Mai-2023-10.30-Uhr-im-Kino-Krone-in-Burgdorf-2-1.png
ORGANIZER;CN="Burgdorf im Wandel":MAILTO:info@burgdorf-im-wandel.ch
END:VEVENT
BEGIN:VEVENT
DTSTART;TZID=Europe/Zurich:20230506T100000
DTEND;TZID=Europe/Zurich:20230506T170000
DTSTAMP:20260420T064906
CREATED:20230206T150804Z
LAST-MODIFIED:20230206T150804Z
UID:22686-1683367200-1683392400@burgdorf-im-wandel.ch
SUMMARY:AktionsSamstag im Chlee
DESCRIPTION:Am AktionsSamstag imChlee hast du die Gelegenheit\, auch ohne Gartenkenntnisse\, zusammen mit andern und unter Anleitung der GärtnerIn ganz nach deinen Möglichkeiten\, mitzuhelfen.\nWir starten jeweils um 10.00 und essen um ca. 13.00 es zMittag mit Gmües usem Garte. Nachmittags geht’s weiter bis ca.17.00.\nEine Anmeldung ist nicht erforderlich. Es sind alle interessierten Menschen willkommen – ob zum mit anpacken oder einfach dabei sein.
URL:https://burgdorf-im-wandel.ch/agenda/aktionssamstag-im-chlee-2/
LOCATION:Im Chlee\, Hinter Wingey 455\, Trubschachen\, 3555
END:VEVENT
BEGIN:VEVENT
DTSTART;TZID=Europe/Zurich:20230503T193000
DTEND;TZID=Europe/Zurich:20230503T210000
DTSTAMP:20260420T064906
CREATED:20230519T090458Z
LAST-MODIFIED:20230519T090458Z
UID:23005-1683142200-1683147600@burgdorf-im-wandel.ch
SUMMARY:Treffpunkt WandelBar
DESCRIPTION:Wir engagieren uns für ökologische\, nachhaltige Themen in und um Burgdorf. \n\n\n\nDu möchtest etwas bewirken\, aber weisst nicht wo anfangen? \nDu hast eine Idee und möchtest diese teilen / weiterentwickeln? \nDu Arbeitest an einem Projekt mit und möchtest es bekannter machen? \nWunderbar – Komm vorbei und bring jemanden mit.
URL:https://burgdorf-im-wandel.ch/agenda/treffpunkt-wandelbar-5/
LOCATION:Restaurant Landhaus\, Sägegasse 33\, Burgdorf\, Bern\, 3400\, Switzerland
ATTACH;FMTTYPE=image/png:https://burgdorf-im-wandel.ch/wp-content/uploads/2023/01/BiW6_klein-e1673262662271.png
ORGANIZER;CN="Burgdorf im Wandel":MAILTO:info@burgdorf-im-wandel.ch
END:VEVENT
BEGIN:VEVENT
DTSTART;TZID=Europe/Zurich:20230430T130000
DTEND;TZID=Europe/Zurich:20230430T170000
DTSTAMP:20260420T064906
CREATED:20230410T100028Z
LAST-MODIFIED:20230410T100028Z
UID:22947-1682859600-1682874000@burgdorf-im-wandel.ch
SUMMARY:Frühlingserwachen - Gemüsegarten Kosmoos
DESCRIPTION:Lerne die Solidarische Landwirtschaft in Bütikofen kennen. \n\nGartenrundgang\nKaffee & Kuchen\n\n 
URL:https://burgdorf-im-wandel.ch/agenda/fruehlingserwachen-gemuesegarten-kosmoos/
ATTACH;FMTTYPE=image/jpeg:https://burgdorf-im-wandel.ch/wp-content/uploads/2023/04/Gemuese-Garten-Komsoos-Logo.jpg
ORGANIZER;CN="Gem%C3%BCsegarten Kosmoos":MAILTO:info@gemuesegartenkosmoos.ch
END:VEVENT
BEGIN:VEVENT
DTSTART;TZID=Europe/Zurich:20230429T133000
DTEND;TZID=Europe/Zurich:20230429T160000
DTSTAMP:20260420T064906
CREATED:20230206T155618Z
LAST-MODIFIED:20230206T155618Z
UID:22731-1682775000-1682784000@burgdorf-im-wandel.ch
SUMMARY:Brockenstube
DESCRIPTION:Die Brockenstube wird von freiwilligen MitarbeiterInnen des GFV geführt. Der Reinerlös kommt vollumfänglich sozialen Projekten und Institutionen zu Gute. \nDas Sortiment ist reichhaltig und günstig: Kleider\, Schuhe\, Schmuck\, Spielwaren\, Hausrat\, Bücher\, Möbel\, Antiquitäten und Raritäten….
URL:https://burgdorf-im-wandel.ch/agenda/brockenstube-13/
LOCATION:Brockenstube\, Dammstrasse 60\, Burgdorf\, 3400\, Switzerland
ATTACH;FMTTYPE=image/jpeg:https://burgdorf-im-wandel.ch/wp-content/uploads/2023/01/Logo_Gemeinnuetziger_Frauenverein_Burgdorf-e1675698274446.jpg
END:VEVENT
BEGIN:VEVENT
DTSTART;TZID=Europe/Zurich:20230428T133000
DTEND;TZID=Europe/Zurich:20230428T163000
DTSTAMP:20260420T064906
CREATED:20230206T155136Z
LAST-MODIFIED:20230206T155136Z
UID:22719-1682688600-1682699400@burgdorf-im-wandel.ch
SUMMARY:Brockenstube
DESCRIPTION:Die Brockenstube wird von freiwilligen MitarbeiterInnen des GFV geführt. Der Reinerlös kommt vollumfänglich sozialen Projekten und Institutionen zu Gute. \nDas Sortiment ist reichhaltig und günstig: Kleider\, Schuhe\, Schmuck\, Spielwaren\, Hausrat\, Bücher\, Möbel\, Antiquitäten und Raritäten….
URL:https://burgdorf-im-wandel.ch/agenda/brockenstube-7/
LOCATION:Brockenstube\, Dammstrasse 60\, Burgdorf\, 3400\, Switzerland
ATTACH;FMTTYPE=image/jpeg:https://burgdorf-im-wandel.ch/wp-content/uploads/2023/01/Logo_Gemeinnuetziger_Frauenverein_Burgdorf-e1675698274446.jpg
END:VEVENT
BEGIN:VEVENT
DTSTART;TZID=Europe/Zurich:20230425T193000
DTEND;TZID=Europe/Zurich:20230428T210000
DTSTAMP:20260420T064906
CREATED:20230403T091053Z
LAST-MODIFIED:20230403T091053Z
UID:22905-1682451000-1682715600@burgdorf-im-wandel.ch
SUMMARY:The week
DESCRIPTION:Nachhaltige persönliche Veränderung und gesellschaftlicher Wandel erfolgen\, wenn der Prozess lustvoll und der Nutzen klar ersichtlich ist. \nDarum geht es im Projekt the Week. Es geht um die Umwelt und darum\, wie sich unser Leben in den nächsten 30 Jahren verändern wird\, unabhängig davon\, wo wir leben. Es geht um unsere Zukunft. \nIch habe viel Gutes über dieses dreiteilige Dokumentarfilmprojekt gehört. Die Leute sagen\, dass es anfangs ziemlich beängstigend ist\, sich dem zu stellen. Aber dieses Projekt erzählt viele Geschichten darüber\, wie wir etwas tun können\, um etwas zu verändern. Es soll sehr inspirierend und anregend sein. \nInitiiert wurde es von den Helene Gerin und Frederic Laloux (Autor des Bestsellers Reinventing Organisation). Siehe: https://www.theweek.ooo \nVorgehensweise: \nAn drei Abenden treffen wir uns\, um den 3teiligen Dokumentarfilm anzuschauen und danach darüber zu diskutieren. \nDaten:    Dienstag\, 25. April\, Mittwoch\, 26. April\, Freitag\, 28. April\, jeweils von 19:30 bis ca. 21:00 \nOrt:         Bei einer kleinen Gruppe finden den Abenden in der Stube im Meienfeldquartier in Burgdorf statt\nBei einer grösseren Gruppe im Gemeinschaftsraum der Genossenschaft Lerchenbühl. \nTeilnahme:      Kostenlos Anmeldungen bis 20. April an Sebastian Schmied
URL:https://burgdorf-im-wandel.ch/agenda/the-week/
ATTACH;FMTTYPE=image/png:https://burgdorf-im-wandel.ch/wp-content/uploads/2023/04/the-week.png
ORGANIZER;CN="Sebastian Schmied":MAILTO:sebastian.schmied@bluewin.ch
END:VEVENT
BEGIN:VEVENT
DTSTART;TZID=Europe/Zurich:20230415T133000
DTEND;TZID=Europe/Zurich:20230415T160000
DTSTAMP:20260420T064906
CREATED:20230206T155537Z
LAST-MODIFIED:20230206T155537Z
UID:22729-1681565400-1681574400@burgdorf-im-wandel.ch
SUMMARY:Brockenstube
DESCRIPTION:Die Brockenstube wird von freiwilligen MitarbeiterInnen des GFV geführt. Der Reinerlös kommt vollumfänglich sozialen Projekten und Institutionen zu Gute. \nDas Sortiment ist reichhaltig und günstig: Kleider\, Schuhe\, Schmuck\, Spielwaren\, Hausrat\, Bücher\, Möbel\, Antiquitäten und Raritäten….
URL:https://burgdorf-im-wandel.ch/agenda/brockenstube-12/
LOCATION:Brockenstube\, Dammstrasse 60\, Burgdorf\, 3400\, Switzerland
ATTACH;FMTTYPE=image/jpeg:https://burgdorf-im-wandel.ch/wp-content/uploads/2023/01/Logo_Gemeinnuetziger_Frauenverein_Burgdorf-e1675698274446.jpg
END:VEVENT
BEGIN:VEVENT
DTSTART;TZID=Europe/Zurich:20230415T100000
DTEND;TZID=Europe/Zurich:20230415T150000
DTSTAMP:20260420T064906
CREATED:20230123T171136Z
LAST-MODIFIED:20230123T171218Z
UID:22668-1681552800-1681570800@burgdorf-im-wandel.ch
SUMMARY:Urban Gardening - Gärtnern auf kleinster (Asphalt-) Fläche
DESCRIPTION:Wir geben dem Bioladen in Burgdorf ein neues Gesicht! \nGemeinsam bauen wir an diesem Tag Hochbeete auf\, füllen und bepflanzen sie. Dabei haben wir sowohl die Selbstversorgung mit Gemüse und Kräutern als auch die Schaffung von Lebensräumen für Insekten und Kleinstlebewesen im Blick und versuchen\, möglichst autarke Strukturen zu gestalten. Und kreieren «nebenbei» einen Blickfang und eine grüne Oase mitten in Burgdorf!
URL:https://burgdorf-im-wandel.ch/agenda/urban-gardening-gaertnern-auf-kleinster-asphalt-flaeche/
LOCATION:Bioladen Integral\, Poststrasse 8\, Burgdorf\, 3400\, Switzerland
ATTACH;FMTTYPE=image/png:https://burgdorf-im-wandel.ch/wp-content/uploads/2023/01/Bioterra_Logo_Website-e1674493928289.png
END:VEVENT
BEGIN:VEVENT
DTSTART;TZID=Europe/Zurich:20230414T133000
DTEND;TZID=Europe/Zurich:20230414T163000
DTSTAMP:20260420T064906
CREATED:20230206T155100Z
LAST-MODIFIED:20230206T155100Z
UID:22717-1681479000-1681489800@burgdorf-im-wandel.ch
SUMMARY:Brockenstube
DESCRIPTION:Die Brockenstube wird von freiwilligen MitarbeiterInnen des GFV geführt. Der Reinerlös kommt vollumfänglich sozialen Projekten und Institutionen zu Gute. \nDas Sortiment ist reichhaltig und günstig: Kleider\, Schuhe\, Schmuck\, Spielwaren\, Hausrat\, Bücher\, Möbel\, Antiquitäten und Raritäten….
URL:https://burgdorf-im-wandel.ch/agenda/brockenstube-6/
LOCATION:Brockenstube\, Dammstrasse 60\, Burgdorf\, 3400\, Switzerland
ATTACH;FMTTYPE=image/jpeg:https://burgdorf-im-wandel.ch/wp-content/uploads/2023/01/Logo_Gemeinnuetziger_Frauenverein_Burgdorf-e1675698274446.jpg
END:VEVENT
BEGIN:VEVENT
DTSTART;TZID=Europe/Zurich:20230405T193000
DTEND;TZID=Europe/Zurich:20230405T210000
DTSTAMP:20260420T064906
CREATED:20230123T164354Z
LAST-MODIFIED:20230123T164437Z
UID:22652-1680723000-1680728400@burgdorf-im-wandel.ch
SUMMARY:Treffpunkt WandelBar
DESCRIPTION:Wir engagieren uns für ökologische\, nachhaltige Themen in und um Burgdorf. \n\n\n\nDu möchtest etwas bewirken\, aber weisst nicht wo anfangen? \nDu hast eine Idee und möchtest diese teilen / weiterentwickeln? \nDu Arbeitest an einem Projekt mit und möchtest es bekannter machen? \nWunderbar – Komm vorbei und bring jemanden mit.
URL:https://burgdorf-im-wandel.ch/agenda/wandelbar/
LOCATION:Restaurant Landhaus\, Sägegasse 33\, Burgdorf\, Bern\, 3400\, Switzerland
ATTACH;FMTTYPE=image/png:https://burgdorf-im-wandel.ch/wp-content/uploads/2023/01/BiW6_klein-e1673262662271.png
END:VEVENT
BEGIN:VEVENT
DTSTART;TZID=Europe/Zurich:20230401T133000
DTEND;TZID=Europe/Zurich:20230401T160000
DTSTAMP:20260420T064906
CREATED:20230206T155507Z
LAST-MODIFIED:20230206T155507Z
UID:22727-1680355800-1680364800@burgdorf-im-wandel.ch
SUMMARY:Brockenstube
DESCRIPTION:Die Brockenstube wird von freiwilligen MitarbeiterInnen des GFV geführt. Der Reinerlös kommt vollumfänglich sozialen Projekten und Institutionen zu Gute. \nDas Sortiment ist reichhaltig und günstig: Kleider\, Schuhe\, Schmuck\, Spielwaren\, Hausrat\, Bücher\, Möbel\, Antiquitäten und Raritäten….
URL:https://burgdorf-im-wandel.ch/agenda/brockenstube-11/
LOCATION:Brockenstube\, Dammstrasse 60\, Burgdorf\, 3400\, Switzerland
ATTACH;FMTTYPE=image/jpeg:https://burgdorf-im-wandel.ch/wp-content/uploads/2023/01/Logo_Gemeinnuetziger_Frauenverein_Burgdorf-e1675698274446.jpg
END:VEVENT
BEGIN:VEVENT
DTSTART;TZID=Europe/Zurich:20230401T100000
DTEND;TZID=Europe/Zurich:20230401T170000
DTSTAMP:20260420T064906
CREATED:20230127T123248Z
LAST-MODIFIED:20230127T123248Z
UID:22676-1680343200-1680368400@burgdorf-im-wandel.ch
SUMMARY:AktionsSamstag im Chlee
DESCRIPTION:Am AktionsSamstag imChlee hast du die Gelegenheit\, auch ohne Gartenkenntnisse\, zusammen mit andern und unter Anleitung der GärtnerIn ganz nach deinen Möglichkeiten\, mitzuhelfen.\nWir starten jeweils um 10.00 und essen um ca. 13.00 es zMittag mit Gmües usem Garte. Nachmittags geht’s weiter bis ca.17.00.\nEine Anmeldung ist nicht erforderlich. Es sind alle interessierten Menschen willkommen – ob zum mit anpacken oder einfach dabei sein.
URL:https://burgdorf-im-wandel.ch/agenda/aktionssamstag-im-chlee/
LOCATION:Im Chlee\, Hinter Wingey 455\, Trubschachen\, 3555
END:VEVENT
BEGIN:VEVENT
DTSTART;TZID=Europe/Zurich:20230331T133000
DTEND;TZID=Europe/Zurich:20230331T163000
DTSTAMP:20260420T064906
CREATED:20230206T155026Z
LAST-MODIFIED:20230206T155026Z
UID:22715-1680269400-1680280200@burgdorf-im-wandel.ch
SUMMARY:Brockenstube
DESCRIPTION:Die Brockenstube wird von freiwilligen MitarbeiterInnen des GFV geführt. Der Reinerlös kommt vollumfänglich sozialen Projekten und Institutionen zu Gute. \nDas Sortiment ist reichhaltig und günstig: Kleider\, Schuhe\, Schmuck\, Spielwaren\, Hausrat\, Bücher\, Möbel\, Antiquitäten und Raritäten….
URL:https://burgdorf-im-wandel.ch/agenda/brockenstube-5/
LOCATION:Brockenstube\, Dammstrasse 60\, Burgdorf\, 3400\, Switzerland
ATTACH;FMTTYPE=image/jpeg:https://burgdorf-im-wandel.ch/wp-content/uploads/2023/01/Logo_Gemeinnuetziger_Frauenverein_Burgdorf-e1675698274446.jpg
END:VEVENT
BEGIN:VEVENT
DTSTART;TZID=Europe/Zurich:20230325T140000
DTEND;TZID=Europe/Zurich:20230325T160000
DTSTAMP:20260420T064906
CREATED:20230313T162959Z
LAST-MODIFIED:20230313T162959Z
UID:22818-1679752800-1679760000@burgdorf-im-wandel.ch
SUMMARY:Frauenkleidertausch
DESCRIPTION:mit Kaffee & Kuchen \nFrauen bringen zwischen 14 bis 16 Uhr: \n\nFrauenkleider\nFrühlingskleider\nSommerkleider\nSchuhe\nSchmuck\n\nBitte nur ganze und saubere Kleider mitbringen
URL:https://burgdorf-im-wandel.ch/agenda/frauenkleidertausch/
LOCATION:Restaurant Krone\, Kino Krone\, Burgdorf
ATTACH;FMTTYPE=image/png:https://burgdorf-im-wandel.ch/wp-content/uploads/2023/03/Kleidertausch_Header.png
ORGANIZER;CN="Frauenkleidertausch Burgdorf":MAILTO:sybille.luethi@gmx.ch
END:VEVENT
BEGIN:VEVENT
DTSTART;TZID=Europe/Zurich:20230325T090000
DTEND;TZID=Europe/Zurich:20230325T160000
DTSTAMP:20260420T064906
CREATED:20230227T100544Z
LAST-MODIFIED:20230227T101137Z
UID:22778-1679734800-1679760000@burgdorf-im-wandel.ch
SUMMARY:Pflegeeinsatz Düttisberg
DESCRIPTION:Die Hecke Düttisberg wird aufgewertet. Wir setzen zusammen mit der FNP rund 50 neue Sträucher und bauen Kleinstrukturen ein. \n–\nAnmeldung bis 20. März
URL:https://burgdorf-im-wandel.ch/agenda/pflegeeinsatz-duettisberg/
ORGANIZER;CN="Natur- und Vogelschutz Burgdorf und Umgebung 1":MAILTO:eichele.m@bluewin.ch
END:VEVENT
BEGIN:VEVENT
DTSTART;TZID=Europe/Zurich:20230318T133000
DTEND;TZID=Europe/Zurich:20230318T170000
DTSTAMP:20260420T064906
CREATED:20230227T084617Z
LAST-MODIFIED:20230227T103814Z
UID:22736-1679146200-1679158800@burgdorf-im-wandel.ch
SUMMARY:So heizen die Nachbarn erneuerbar
DESCRIPTION:Informationsveranstaltung organisiert durch den Quartierleist Nord zusammen mit der Plattform Energiestadt Burgdorf. \nFossile Heizungen belasten das Klima und mit den steigenden Energiepreisen auch das Budget. Die Stadt Burgdorf hat sich zum Ziel gesetzt\, bis 2030 netto Null CO2-Äquivalente auszustossen. Deshalb möchte die Stadt die Bewohner:innen dabei unterstützen\, ebenfalls möglichst klimaneutral zu werden. Grosses Potential und Handlungsbedarf liegen dabei beim Ersatz fossiler Heizungen durch moderne\, nachhaltige und klimaneutrale Heizsysteme. \nNutzen Sie die Gelegenheit sich kompetent aus erster Hand zum Thema Heizungsersatz zu informieren. Ihnen werden persönliche Erfahrungen\, Vor- und Nachteile und die Wirtschaftlichkeit verschiedener Systeme transparent aufgezeigt. \nAnmeldung erforderlich.
URL:https://burgdorf-im-wandel.ch/agenda/so-heizen-die-nachbarn-erneuerbar/
LOCATION:TecLab\, Jlcoweg 1\, Burgdorf\, 3400
ATTACH;FMTTYPE=image/png:https://burgdorf-im-wandel.ch/wp-content/uploads/2023/02/Nachbar-heizen-e1677487544699.png
END:VEVENT
BEGIN:VEVENT
DTSTART;TZID=Europe/Zurich:20230318T133000
DTEND;TZID=Europe/Zurich:20230318T160000
DTSTAMP:20260420T064906
CREATED:20230206T155438Z
LAST-MODIFIED:20230206T155438Z
UID:22725-1679146200-1679155200@burgdorf-im-wandel.ch
SUMMARY:Brockenstube
DESCRIPTION:Die Brockenstube wird von freiwilligen MitarbeiterInnen des GFV geführt. Der Reinerlös kommt vollumfänglich sozialen Projekten und Institutionen zu Gute. \nDas Sortiment ist reichhaltig und günstig: Kleider\, Schuhe\, Schmuck\, Spielwaren\, Hausrat\, Bücher\, Möbel\, Antiquitäten und Raritäten….
URL:https://burgdorf-im-wandel.ch/agenda/brockenstube-10/
LOCATION:Brockenstube\, Dammstrasse 60\, Burgdorf\, 3400\, Switzerland
ATTACH;FMTTYPE=image/jpeg:https://burgdorf-im-wandel.ch/wp-content/uploads/2023/01/Logo_Gemeinnuetziger_Frauenverein_Burgdorf-e1675698274446.jpg
END:VEVENT
BEGIN:VEVENT
DTSTART;TZID=Europe/Zurich:20230317T133000
DTEND;TZID=Europe/Zurich:20230317T163000
DTSTAMP:20260420T064906
CREATED:20230206T154904Z
LAST-MODIFIED:20230206T154904Z
UID:22713-1679059800-1679070600@burgdorf-im-wandel.ch
SUMMARY:Brockenstube
DESCRIPTION:Die Brockenstube wird von freiwilligen MitarbeiterInnen des GFV geführt. Der Reinerlös kommt vollumfänglich sozialen Projekten und Institutionen zu Gute. \nDas Sortiment ist reichhaltig und günstig: Kleider\, Schuhe\, Schmuck\, Spielwaren\, Hausrat\, Bücher\, Möbel\, Antiquitäten und Raritäten….
URL:https://burgdorf-im-wandel.ch/agenda/brockenstube-4/
LOCATION:Brockenstube\, Dammstrasse 60\, Burgdorf\, 3400\, Switzerland
ATTACH;FMTTYPE=image/jpeg:https://burgdorf-im-wandel.ch/wp-content/uploads/2023/01/Logo_Gemeinnuetziger_Frauenverein_Burgdorf-e1675698274446.jpg
END:VEVENT
BEGIN:VEVENT
DTSTART;TZID=Europe/Zurich:20230312T160000
DTEND;TZID=Europe/Zurich:20230312T180000
DTSTAMP:20260420T064906
CREATED:20230306T165458Z
LAST-MODIFIED:20230306T165458Z
UID:22814-1678636800-1678644000@burgdorf-im-wandel.ch
SUMMARY:Benzin aus Luft – Buchlesung
DESCRIPTION:Wir freuen uns\, Sie zur Buchlesung „Benzin aus Luft“\, mit Christoph Keller und Renata Keller\, zum Thema Klimazukunft einzuladen. \nChristoph hat im Sommer 2019 sein neues Buch *Benzin aus Luft – Eine Reise in die Klimazukunft‘* veröffentlicht und wir werden nach ein paar von seinen Inputs/Vorlesung gemeinsam in den Dialog gehen\, moderiert von Renata Keller\, und uns in diese hochaktuelle Thematik vertiefen. Es ist uns auch ein Anliegen\, dass wir dann nicht nur über neue Ideen reden\, sondern auch mit greifbaren Handlungsimpulsen wieder nach Hause gehen.
URL:https://burgdorf-im-wandel.ch/agenda/benzin-aus-luft-buchlesung/
LOCATION:Boutique Tresor\, Bahnhofplatz/Kalchofenstrasse 6\, Hasle bei Burgdorf\, 3415\, Switzerland
ATTACH;FMTTYPE=image/webp:https://burgdorf-im-wandel.ch/wp-content/uploads/2023/03/Benzin-aus-Luft.webp
END:VEVENT
BEGIN:VEVENT
DTSTART;TZID=Europe/Zurich:20230311T100000
DTEND;TZID=Europe/Zurich:20230311T150000
DTSTAMP:20260420T064906
CREATED:20230123T165209Z
LAST-MODIFIED:20230123T165209Z
UID:22656-1678528800-1678546800@burgdorf-im-wandel.ch
SUMMARY:Repair Café
DESCRIPTION:Im Repair Café Burgdorf repariert ihr mit Hilfe von Profis kostenlos eure Lieblingsobjekte und geniesst dabei Kaffee & Kuchen.\n\n\n\n\n\n\n\n\n\n\n\n\n\n\n\n\n\n\n\n\n\n\n\nSeien es Spielsachen\, kleinere Möbel\, von Viren befallene Computer\, defekte Handys oder verlöcherte Kleider. Die Fachmänner und Frauen versuchen diese und andere Sachen wieder zum Laufen zu bringen und ihnen zu neuem Leben zu verhelfen.\n\n\nDas Repair Café in Burgdorf wird vom gemeinnützigen Frauenverein durchgeführt. Es findet im Keller bei Stiftung Intact an der Kirchbergstrasse 21 statt.\n\n\nDas Angebot vom Repair Café ist gratis. Komm vorbei. Wir freuen uns auf dich und zahlreiche defekte Gegenstände.
URL:https://burgdorf-im-wandel.ch/agenda/repair-cafe/
LOCATION:Stiftung Intact\, Kirchbergstrasse 21\, Burgdorf\, 3400\, Switzerland
ATTACH;FMTTYPE=image/jpeg:https://burgdorf-im-wandel.ch/wp-content/uploads/2023/01/Logo-Repair-Cafe-Burgdorf-GFV-Burgdorf-e1674570862461.jpg
END:VEVENT
BEGIN:VEVENT
DTSTART;TZID=Europe/Zurich:20230311T090000
DTEND;TZID=Europe/Zurich:20230311T160000
DTSTAMP:20260420T064906
CREATED:20230227T100257Z
LAST-MODIFIED:20230227T100750Z
UID:22776-1678525200-1678550400@burgdorf-im-wandel.ch
SUMMARY:Heckenpflege in Freudigen
DESCRIPTION:Wir schneiden und pflegen unsere Hecken\, damit Neuntöter\, Wiesel und Co. einen geeigneten Lebensraum vorfinden.\nKulinarisch werden wir am Mittag von den Familien Bösiger und Znoj verwöhnt. Halbtageseinsatz möglich. \nAnmelden bis 7. März
URL:https://burgdorf-im-wandel.ch/agenda/heckenpflege-in-freudigen/
ORGANIZER;CN="Natur- und Vogelschutz Burgdorf und Umgebung 1":MAILTO:eichele.m@bluewin.ch
END:VEVENT
BEGIN:VEVENT
DTSTART;TZID=Europe/Zurich:20230307T183000
DTEND;TZID=Europe/Zurich:20230307T200000
DTSTAMP:20260420T064906
CREATED:20230227T090008Z
LAST-MODIFIED:20230227T090204Z
UID:22740-1678213800-1678219200@burgdorf-im-wandel.ch
SUMMARY:Vom Grübeln ins Handeln kommen - Infoanlass
DESCRIPTION:Du willst konkret etwas gegen den Klimawandel tun?\nDer Kurs Klimafreundlich Leben bringt dich spielerisch vom Reden ins Tun und senkt damit dauerhaft deinen CO2*-Fussabdruck. Ein halbes Jahr lang lotest du in einer Kleingruppe jeden Monat gemeinschaftlich und kreativ die besten Möglichkeiten aus\, um deinen CO2 Ausstoss zu reduzieren. Du setzt dir konkrete Ziele\, welche Veränderung du bis zum nächsten Treffen verwirklichen willst. Den Grad der Herausforderung bestimmst du selbst. Ob du dir kleine Ziele vornimmst wie das Vermeiden von Werbeprospekten in deinem Briefkasten oder grosse wie der Umbau deiner alten Ölheizung\, liegt bei dir. Jede Veränderung ist willkommen.\n*Mit CO2 ist im Text immer CO2e also CO2-Äquivalent gemeint. \nAnmeldung an: florentin.abaecherli@gwoe.ch
URL:https://burgdorf-im-wandel.ch/agenda/vom-gruebeln-ins-handeln-kommen/
LOCATION:online
ATTACH;FMTTYPE=image/jpeg:https://burgdorf-im-wandel.ch/wp-content/uploads/2023/02/GWL-Banner-Grafik-Pfeile-orange-02-2.jpg
END:VEVENT
BEGIN:VEVENT
DTSTART;TZID=Europe/Zurich:20230304T133000
DTEND;TZID=Europe/Zurich:20230304T160000
DTSTAMP:20260420T064906
CREATED:20230206T155314Z
LAST-MODIFIED:20230206T155314Z
UID:22723-1677936600-1677945600@burgdorf-im-wandel.ch
SUMMARY:Brockenstube
DESCRIPTION:Die Brockenstube wird von freiwilligen MitarbeiterInnen des GFV geführt. Der Reinerlös kommt vollumfänglich sozialen Projekten und Institutionen zu Gute. \nDas Sortiment ist reichhaltig und günstig: Kleider\, Schuhe\, Schmuck\, Spielwaren\, Hausrat\, Bücher\, Möbel\, Antiquitäten und Raritäten….
URL:https://burgdorf-im-wandel.ch/agenda/brockenstube-9/
LOCATION:Brockenstube\, Dammstrasse 60\, Burgdorf\, 3400\, Switzerland
ATTACH;FMTTYPE=image/jpeg:https://burgdorf-im-wandel.ch/wp-content/uploads/2023/01/Logo_Gemeinnuetziger_Frauenverein_Burgdorf-e1675698274446.jpg
END:VEVENT
BEGIN:VEVENT
DTSTART;TZID=Europe/Zurich:20230304T090000
DTEND;TZID=Europe/Zurich:20230304T120000
DTSTAMP:20260420T064906
CREATED:20230227T095841Z
LAST-MODIFIED:20230228T183845Z
UID:22773-1677920400-1677931200@burgdorf-im-wandel.ch
SUMMARY:Asthaufen beim Typonsteg anlegen
DESCRIPTION:Für Ringelnatter und Zauneidechse legen wir an der Emmeböschung mehrere Asthaufen an.
URL:https://burgdorf-im-wandel.ch/agenda/asthaufen-beim-typonsteg-anlegen/
ORGANIZER;CN="Natur- und Vogelschutz Burgdorf und Umgebung 1":MAILTO:eichele.m@bluewin.ch
END:VEVENT
BEGIN:VEVENT
DTSTART;TZID=Europe/Zurich:20230303T133000
DTEND;TZID=Europe/Zurich:20230303T163000
DTSTAMP:20260420T064906
CREATED:20230206T154748Z
LAST-MODIFIED:20230206T154748Z
UID:22710-1677850200-1677861000@burgdorf-im-wandel.ch
SUMMARY:Brockenstube
DESCRIPTION:Die Brockenstube wird von freiwilligen MitarbeiterInnen des GFV geführt. Der Reinerlös kommt vollumfänglich sozialen Projekten und Institutionen zu Gute. \nDas Sortiment ist reichhaltig und günstig: Kleider\, Schuhe\, Schmuck\, Spielwaren\, Hausrat\, Bücher\, Möbel\, Antiquitäten und Raritäten….
URL:https://burgdorf-im-wandel.ch/agenda/brockenstube-3/
LOCATION:Brockenstube\, Dammstrasse 60\, Burgdorf\, 3400\, Switzerland
ATTACH;FMTTYPE=image/jpeg:https://burgdorf-im-wandel.ch/wp-content/uploads/2023/01/Logo_Gemeinnuetziger_Frauenverein_Burgdorf-e1675698274446.jpg
END:VEVENT
BEGIN:VEVENT
DTSTART;TZID=Europe/Zurich:20230301T193000
DTEND;TZID=Europe/Zurich:20230301T210000
DTSTAMP:20260420T064906
CREATED:20221121T110703Z
LAST-MODIFIED:20230123T164515Z
UID:22445-1677699000-1677704400@burgdorf-im-wandel.ch
SUMMARY:Treffpunkt WandelBar
DESCRIPTION:Wir engagieren uns für ökologische\, nachhaltige Themen in und um Burgdorf. \n\n\n\nDu möchtest etwas bewirken\, aber weisst nicht wo anfangen? \nDu hast eine Idee und möchtest diese teilen / weiterentwickeln? \nDu Arbeitest an einem Projekt mit und möchtest es bekannter machen? \nWunderbar – Komm vorbei und bring jemanden mit.
URL:https://burgdorf-im-wandel.ch/agenda/treffpunkt-wandelbar-3/
LOCATION:Restaurant Landhaus\, Sägegasse 33\, Burgdorf\, Bern\, 3400\, Switzerland
ATTACH;FMTTYPE=image/png:https://burgdorf-im-wandel.ch/wp-content/uploads/2023/01/BiW6_klein-e1673262662271.png
END:VEVENT
BEGIN:VEVENT
DTSTART;TZID=Europe/Zurich:20230224T183000
DTEND;TZID=Europe/Zurich:20230224T200000
DTSTAMP:20260420T064906
CREATED:20230206T152742Z
LAST-MODIFIED:20230206T152948Z
UID:22696-1677263400-1677268800@burgdorf-im-wandel.ch
SUMMARY:Critical Mass
DESCRIPTION:Was ist Critical Mass?\nBei der Critical Mass (CM) treffen sich zahlreiche Menschen zu einer gemeinsamen Velofahrt durch die Stadt. Ziel ist es\, eine «kritische Masse» zu erreichen\, sodass dem motorisierten Verkehr auf Augenhöhe begegnet werden kann. Die Critical Mass findet weltweit in über 300 Städten immer am letzten Freitag des Monats statt. \nTreffpunkt in Burgdorf: 18.30 Uhr bei der Velostation am Bahnhof.\n\nWer sich mit dem Fahrrad in den Verkehr begibt\, setzt sich oft grossen Gefahren aus und wird an den Rand gedrängt. Finden sich jedoch zahlreiche Velofahrer*innen für eine gemeinsame Fahrt\, wird der öffentliche Raum vorübergehend zurückerobert und zu einem Ort des sozialen Austauschs. \nDie Critical Mass ist keine Demonstration. Vielmehr handelt es sich um ein spontanes\, grosses Verkehrsaufkommen von Velos. Die Route ist nicht festgelegt — wer zuvorderst fährt\, bestimmt die Richtung. Die Critical Mass ist nicht organisiert und kennt keine Verantwortlichen. Sobald am vereinbarten Treffpunkt die kritische Masse erreicht ist\, setzt sie sich friedlich in Bewegung. \nDie erste Critical Mass hat 1992 in San Francisco stattgefunden. In Zürich waren 2019 jeweils bis zu 1000 Velos unterwegs. Motivierende Beiträge dazu findest Du auf YouTube: Videos zum Thema “Critical Mass”. \nAm 31.7.2020 fand die erste CM in Burgdorf statt. Machst Du in Zukunft auch mit? \n“Wir blockieren nicht den Verkehr — wir sind der Verkehr!”
URL:https://burgdorf-im-wandel.ch/agenda/critical-mass/
LOCATION:Velostation Bahnhof Burgdorf
ATTACH;FMTTYPE=image/jpeg:https://burgdorf-im-wandel.ch/wp-content/uploads/2023/01/Provelo.jpg
END:VEVENT
BEGIN:VEVENT
DTSTART;TZID=Europe/Zurich:20230218T133000
DTEND;TZID=Europe/Zurich:20230218T160000
DTSTAMP:20260420T064906
CREATED:20230206T154543Z
LAST-MODIFIED:20230206T154543Z
UID:22708-1676727000-1676736000@burgdorf-im-wandel.ch
SUMMARY:Brockenstube
DESCRIPTION:Die Brockenstube wird von freiwilligen MitarbeiterInnen des GFV geführt. Der Reinerlös kommt vollumfänglich sozialen Projekten und Institutionen zu Gute. \nDas Sortiment ist reichhaltig und günstig: Kleider\, Schuhe\, Schmuck\, Spielwaren\, Hausrat\, Bücher\, Möbel\, Antiquitäten und Raritäten….
URL:https://burgdorf-im-wandel.ch/agenda/brockenstube-2/
LOCATION:Brockenstube\, Dammstrasse 60\, Burgdorf\, 3400\, Switzerland
ATTACH;FMTTYPE=image/jpeg:https://burgdorf-im-wandel.ch/wp-content/uploads/2023/01/Logo_Gemeinnuetziger_Frauenverein_Burgdorf-e1675698274446.jpg
END:VEVENT
END:VCALENDAR