BEGIN:VCALENDAR
VERSION:2.0
PRODID:-//Verein Burgdorf im Wandel - ECPv6.15.16//NONSGML v1.0//EN
CALSCALE:GREGORIAN
METHOD:PUBLISH
X-WR-CALNAME:Verein Burgdorf im Wandel
X-ORIGINAL-URL:https://burgdorf-im-wandel.ch
X-WR-CALDESC:Veranstaltungen im Verein Burgdorf im Wandel
REFRESH-INTERVAL;VALUE=DURATION:PT1H
X-Robots-Tag:noindex
X-PUBLISHED-TTL:PT1H
BEGIN:VTIMEZONE
TZID:Europe/Zurich
BEGIN:DAYLIGHT
TZOFFSETFROM:+0100
TZOFFSETTO:+0200
TZNAME:CEST
DTSTART:20210328T010000
END:DAYLIGHT
BEGIN:STANDARD
TZOFFSETFROM:+0200
TZOFFSETTO:+0100
TZNAME:CET
DTSTART:20211031T010000
END:STANDARD
BEGIN:DAYLIGHT
TZOFFSETFROM:+0100
TZOFFSETTO:+0200
TZNAME:CEST
DTSTART:20220327T010000
END:DAYLIGHT
BEGIN:STANDARD
TZOFFSETFROM:+0200
TZOFFSETTO:+0100
TZNAME:CET
DTSTART:20221030T010000
END:STANDARD
BEGIN:DAYLIGHT
TZOFFSETFROM:+0100
TZOFFSETTO:+0200
TZNAME:CEST
DTSTART:20230326T010000
END:DAYLIGHT
BEGIN:STANDARD
TZOFFSETFROM:+0200
TZOFFSETTO:+0100
TZNAME:CET
DTSTART:20231029T010000
END:STANDARD
BEGIN:DAYLIGHT
TZOFFSETFROM:+0100
TZOFFSETTO:+0200
TZNAME:CEST
DTSTART:20240331T010000
END:DAYLIGHT
BEGIN:STANDARD
TZOFFSETFROM:+0200
TZOFFSETTO:+0100
TZNAME:CET
DTSTART:20241027T010000
END:STANDARD
END:VTIMEZONE
BEGIN:VEVENT
DTSTART;TZID=Europe/Zurich:20230304T133000
DTEND;TZID=Europe/Zurich:20230304T160000
DTSTAMP:20260420T104307
CREATED:20230206T155314Z
LAST-MODIFIED:20230206T155314Z
UID:22723-1677936600-1677945600@burgdorf-im-wandel.ch
SUMMARY:Brockenstube
DESCRIPTION:Die Brockenstube wird von freiwilligen MitarbeiterInnen des GFV geführt. Der Reinerlös kommt vollumfänglich sozialen Projekten und Institutionen zu Gute. \nDas Sortiment ist reichhaltig und günstig: Kleider\, Schuhe\, Schmuck\, Spielwaren\, Hausrat\, Bücher\, Möbel\, Antiquitäten und Raritäten….
URL:https://burgdorf-im-wandel.ch/agenda/brockenstube-9/
LOCATION:Brockenstube\, Dammstrasse 60\, Burgdorf\, 3400\, Switzerland
ATTACH;FMTTYPE=image/jpeg:https://burgdorf-im-wandel.ch/wp-content/uploads/2023/01/Logo_Gemeinnuetziger_Frauenverein_Burgdorf-e1675698274446.jpg
END:VEVENT
BEGIN:VEVENT
DTSTART;TZID=Europe/Zurich:20230304T090000
DTEND;TZID=Europe/Zurich:20230304T120000
DTSTAMP:20260420T104307
CREATED:20230227T095841Z
LAST-MODIFIED:20230228T183845Z
UID:22773-1677920400-1677931200@burgdorf-im-wandel.ch
SUMMARY:Asthaufen beim Typonsteg anlegen
DESCRIPTION:Für Ringelnatter und Zauneidechse legen wir an der Emmeböschung mehrere Asthaufen an.
URL:https://burgdorf-im-wandel.ch/agenda/asthaufen-beim-typonsteg-anlegen/
ORGANIZER;CN="Natur- und Vogelschutz Burgdorf und Umgebung 1":MAILTO:eichele.m@bluewin.ch
END:VEVENT
BEGIN:VEVENT
DTSTART;TZID=Europe/Zurich:20230303T133000
DTEND;TZID=Europe/Zurich:20230303T163000
DTSTAMP:20260420T104307
CREATED:20230206T154748Z
LAST-MODIFIED:20230206T154748Z
UID:22710-1677850200-1677861000@burgdorf-im-wandel.ch
SUMMARY:Brockenstube
DESCRIPTION:Die Brockenstube wird von freiwilligen MitarbeiterInnen des GFV geführt. Der Reinerlös kommt vollumfänglich sozialen Projekten und Institutionen zu Gute. \nDas Sortiment ist reichhaltig und günstig: Kleider\, Schuhe\, Schmuck\, Spielwaren\, Hausrat\, Bücher\, Möbel\, Antiquitäten und Raritäten….
URL:https://burgdorf-im-wandel.ch/agenda/brockenstube-3/
LOCATION:Brockenstube\, Dammstrasse 60\, Burgdorf\, 3400\, Switzerland
ATTACH;FMTTYPE=image/jpeg:https://burgdorf-im-wandel.ch/wp-content/uploads/2023/01/Logo_Gemeinnuetziger_Frauenverein_Burgdorf-e1675698274446.jpg
END:VEVENT
BEGIN:VEVENT
DTSTART;TZID=Europe/Zurich:20230301T193000
DTEND;TZID=Europe/Zurich:20230301T210000
DTSTAMP:20260420T104307
CREATED:20221121T110703Z
LAST-MODIFIED:20230123T164515Z
UID:22445-1677699000-1677704400@burgdorf-im-wandel.ch
SUMMARY:Treffpunkt WandelBar
DESCRIPTION:Wir engagieren uns für ökologische\, nachhaltige Themen in und um Burgdorf. \n\n\n\nDu möchtest etwas bewirken\, aber weisst nicht wo anfangen? \nDu hast eine Idee und möchtest diese teilen / weiterentwickeln? \nDu Arbeitest an einem Projekt mit und möchtest es bekannter machen? \nWunderbar – Komm vorbei und bring jemanden mit.
URL:https://burgdorf-im-wandel.ch/agenda/treffpunkt-wandelbar-3/
LOCATION:Restaurant Landhaus\, Sägegasse 33\, Burgdorf\, Bern\, 3400\, Switzerland
ATTACH;FMTTYPE=image/png:https://burgdorf-im-wandel.ch/wp-content/uploads/2023/01/BiW6_klein-e1673262662271.png
END:VEVENT
BEGIN:VEVENT
DTSTART;TZID=Europe/Zurich:20230224T183000
DTEND;TZID=Europe/Zurich:20230224T200000
DTSTAMP:20260420T104307
CREATED:20230206T152742Z
LAST-MODIFIED:20230206T152948Z
UID:22696-1677263400-1677268800@burgdorf-im-wandel.ch
SUMMARY:Critical Mass
DESCRIPTION:Was ist Critical Mass?\nBei der Critical Mass (CM) treffen sich zahlreiche Menschen zu einer gemeinsamen Velofahrt durch die Stadt. Ziel ist es\, eine «kritische Masse» zu erreichen\, sodass dem motorisierten Verkehr auf Augenhöhe begegnet werden kann. Die Critical Mass findet weltweit in über 300 Städten immer am letzten Freitag des Monats statt. \nTreffpunkt in Burgdorf: 18.30 Uhr bei der Velostation am Bahnhof.\n\nWer sich mit dem Fahrrad in den Verkehr begibt\, setzt sich oft grossen Gefahren aus und wird an den Rand gedrängt. Finden sich jedoch zahlreiche Velofahrer*innen für eine gemeinsame Fahrt\, wird der öffentliche Raum vorübergehend zurückerobert und zu einem Ort des sozialen Austauschs. \nDie Critical Mass ist keine Demonstration. Vielmehr handelt es sich um ein spontanes\, grosses Verkehrsaufkommen von Velos. Die Route ist nicht festgelegt — wer zuvorderst fährt\, bestimmt die Richtung. Die Critical Mass ist nicht organisiert und kennt keine Verantwortlichen. Sobald am vereinbarten Treffpunkt die kritische Masse erreicht ist\, setzt sie sich friedlich in Bewegung. \nDie erste Critical Mass hat 1992 in San Francisco stattgefunden. In Zürich waren 2019 jeweils bis zu 1000 Velos unterwegs. Motivierende Beiträge dazu findest Du auf YouTube: Videos zum Thema “Critical Mass”. \nAm 31.7.2020 fand die erste CM in Burgdorf statt. Machst Du in Zukunft auch mit? \n“Wir blockieren nicht den Verkehr — wir sind der Verkehr!”
URL:https://burgdorf-im-wandel.ch/agenda/critical-mass/
LOCATION:Velostation Bahnhof Burgdorf
ATTACH;FMTTYPE=image/jpeg:https://burgdorf-im-wandel.ch/wp-content/uploads/2023/01/Provelo.jpg
END:VEVENT
BEGIN:VEVENT
DTSTART;TZID=Europe/Zurich:20230218T133000
DTEND;TZID=Europe/Zurich:20230218T160000
DTSTAMP:20260420T104307
CREATED:20230206T154543Z
LAST-MODIFIED:20230206T154543Z
UID:22708-1676727000-1676736000@burgdorf-im-wandel.ch
SUMMARY:Brockenstube
DESCRIPTION:Die Brockenstube wird von freiwilligen MitarbeiterInnen des GFV geführt. Der Reinerlös kommt vollumfänglich sozialen Projekten und Institutionen zu Gute. \nDas Sortiment ist reichhaltig und günstig: Kleider\, Schuhe\, Schmuck\, Spielwaren\, Hausrat\, Bücher\, Möbel\, Antiquitäten und Raritäten….
URL:https://burgdorf-im-wandel.ch/agenda/brockenstube-2/
LOCATION:Brockenstube\, Dammstrasse 60\, Burgdorf\, 3400\, Switzerland
ATTACH;FMTTYPE=image/jpeg:https://burgdorf-im-wandel.ch/wp-content/uploads/2023/01/Logo_Gemeinnuetziger_Frauenverein_Burgdorf-e1675698274446.jpg
END:VEVENT
BEGIN:VEVENT
DTSTART;TZID=Europe/Zurich:20230217T133000
DTEND;TZID=Europe/Zurich:20230217T163000
DTSTAMP:20260420T104307
CREATED:20230206T154350Z
LAST-MODIFIED:20230206T154443Z
UID:22705-1676640600-1676651400@burgdorf-im-wandel.ch
SUMMARY:Brockenstube
DESCRIPTION:Die Brockenstube wird von freiwilligen MitarbeiterInnen des GFV geführt. Der Reinerlös kommt vollumfänglich sozialen Projekten und Institutionen zu Gute. \nDas Sortiment ist reichhaltig und günstig: Kleider\, Schuhe\, Schmuck\, Spielwaren\, Hausrat\, Bücher\, Möbel\, Antiquitäten und Raritäten….
URL:https://burgdorf-im-wandel.ch/agenda/brockenstube/
LOCATION:Brockenstube\, Dammstrasse 60\, Burgdorf\, 3400\, Switzerland
ATTACH;FMTTYPE=image/jpeg:https://burgdorf-im-wandel.ch/wp-content/uploads/2023/01/Logo_Gemeinnuetziger_Frauenverein_Burgdorf-e1675698274446.jpg
END:VEVENT
BEGIN:VEVENT
DTSTART;TZID=Europe/Zurich:20230201T193000
DTEND;TZID=Europe/Zurich:20230201T210000
DTSTAMP:20260420T104307
CREATED:20221121T103841Z
LAST-MODIFIED:20230123T164536Z
UID:22437-1675279800-1675285200@burgdorf-im-wandel.ch
SUMMARY:Treffpunkt WandelBar
DESCRIPTION:Wir engagieren uns für ökologische\, nachhaltige Themen in und um Burgdorf. \n\n\n\nDu möchtest etwas bewirken\, aber weisst nicht wo anfangen? \nDu hast eine Idee und möchtest diese teilen / weiterentwickeln? \nDu Arbeitest an einem Projekt mit und möchtest es bekannter machen? \nWunderbar – Komm vorbei und bring jemanden mit.
URL:https://burgdorf-im-wandel.ch/agenda/treffpunkt-wandelbar-2/
LOCATION:Restaurant Landhaus\, Sägegasse 33\, Burgdorf\, Bern\, 3400\, Switzerland
ATTACH;FMTTYPE=image/png:https://burgdorf-im-wandel.ch/wp-content/uploads/2023/01/BiW6_klein-e1673262662271.png
END:VEVENT
BEGIN:VEVENT
DTSTART;VALUE=DATE:20230101
DTEND;VALUE=DATE:20240101
DTSTAMP:20260420T104307
CREATED:20230206T153522Z
LAST-MODIFIED:20230206T153904Z
UID:22699-1672531200-1704067199@burgdorf-im-wandel.ch
SUMMARY:Ludothek
DESCRIPTION:EINE LUDOTHEK – WAS IST DAS?\n\nDie Ludothek leiht Spiele und Spielsachen aus (wie Bibliotheken Bücher).\nDie Ludothek fördert das Spielen als aktive Freizeitbeschäftigung und wichtiges Kulturgut.\nDie Ludothek steht allen offen\, Kindern\, Erwachsenen\, Institutionen\, Schulen etc.\nDie Ludothek initiiert Spielaktivitäten oder beteiligt sich an solchen anderer Organisationen.\nDie Ludothek bietet auch Raum zum Spielen.\n\nÖffnungszeiten\nMittwoch      14h – 17h \nFreitag        15h – 18h \nSamstag     10h – 12h (1. und 3. des Monats) \nWährend den Sommer- und Winterferien bleibt die Ludothek geschlossen.\n Ferienplan
URL:https://burgdorf-im-wandel.ch/agenda/ludothek/
LOCATION:Ludothek Burgdorf\, Mühlegasse 22\, Burgdorf\, 3400\, Switzerland
ATTACH;FMTTYPE=image/jpeg:https://burgdorf-im-wandel.ch/wp-content/uploads/2023/02/Logo_Ludothek_GFV-Burgdorf.jpg
END:VEVENT
BEGIN:VEVENT
DTSTART;TZID=Europe/Zurich:20221207T193000
DTEND;TZID=Europe/Zurich:20221207T210000
DTSTAMP:20260420T104307
CREATED:20220909T095326Z
LAST-MODIFIED:20221121T110058Z
UID:21814-1670441400-1670446800@burgdorf-im-wandel.ch
SUMMARY:Treffpunkt WandelBar
DESCRIPTION:Wir engagieren uns für ökologische\, nachhaltige Themen in und um Burgdorf. \n\n\n\nDu möchtest etwas bewirken\, aber weisst nicht wo anfangen? \nDu hast eine Idee und möchtest diese teilen / weiterentwickeln? \nDu Arbeitest an einem Projekt mit und möchtest es bekannter machen? \nWunderbar – Komm vorbei und bring jemanden mit.
URL:https://burgdorf-im-wandel.ch/agenda/treffpunkt-wandelbar/
LOCATION:Restaurant Landhaus\, Sägegasse 33\, Burgdorf\, Bern\, 3400\, Switzerland
END:VEVENT
END:VCALENDAR