BEGIN:VCALENDAR
VERSION:2.0
PRODID:-//Verein Burgdorf im Wandel - ECPv6.15.16//NONSGML v1.0//EN
CALSCALE:GREGORIAN
METHOD:PUBLISH
X-ORIGINAL-URL:https://burgdorf-im-wandel.ch
X-WR-CALDESC:Veranstaltungen im Verein Burgdorf im Wandel
REFRESH-INTERVAL;VALUE=DURATION:PT1H
X-Robots-Tag:noindex
X-PUBLISHED-TTL:PT1H
BEGIN:VTIMEZONE
TZID:Europe/Zurich
BEGIN:DAYLIGHT
TZOFFSETFROM:+0100
TZOFFSETTO:+0200
TZNAME:CEST
DTSTART:20240331T010000
END:DAYLIGHT
BEGIN:STANDARD
TZOFFSETFROM:+0200
TZOFFSETTO:+0100
TZNAME:CET
DTSTART:20241027T010000
END:STANDARD
BEGIN:DAYLIGHT
TZOFFSETFROM:+0100
TZOFFSETTO:+0200
TZNAME:CEST
DTSTART:20250330T010000
END:DAYLIGHT
BEGIN:STANDARD
TZOFFSETFROM:+0200
TZOFFSETTO:+0100
TZNAME:CET
DTSTART:20251026T010000
END:STANDARD
BEGIN:DAYLIGHT
TZOFFSETFROM:+0100
TZOFFSETTO:+0200
TZNAME:CEST
DTSTART:20260329T010000
END:DAYLIGHT
BEGIN:STANDARD
TZOFFSETFROM:+0200
TZOFFSETTO:+0100
TZNAME:CET
DTSTART:20261025T010000
END:STANDARD
END:VTIMEZONE
BEGIN:VEVENT
DTSTART;VALUE=DATE:20250501
DTEND;VALUE=DATE:20250502
DTSTAMP:20260420T112206
CREATED:20250107T102004Z
LAST-MODIFIED:20250107T110747Z
UID:24228-1746057600-1746143999@burgdorf-im-wandel.ch
SUMMARY:Naturschutzgebietspflege - Neophyten- Tag im Mai
DESCRIPTION:Wir sagen Berufskraut & Co. den Kampf an! \nGenaues Datum und Details folgen! \nFlyer
URL:https://burgdorf-im-wandel.ch/agenda/naturschutzgebietspflege-neophyten-tag-im-mai/
LOCATION:Ort noch offen
END:VEVENT
BEGIN:VEVENT
DTSTART;TZID=Europe/Zurich:20250501T193000
DTEND;TZID=Europe/Zurich:20250501T210000
DTSTAMP:20260420T112206
CREATED:20250222T184842Z
LAST-MODIFIED:20250222T184842Z
UID:24396-1746127800-1746133200@burgdorf-im-wandel.ch
SUMMARY:Ist freiwilliger Verzicht notwendig für ein gelingendes Leben? -  Philosophischer Salon
DESCRIPTION:In seiner “Philosophie der Selbstbeschränkung” (2023) schlägt Otfried Höffe vor\, die “hohe Kunst des Verzichts” zu rehabilitieren. Sind wir bereit\, uns zu mässigen? \nIm philosophischen Salon wird in einer offenen Runde diskutiert\, es können auch ganze Fragen im Raum stehen. Die Gäste sind eingeladen\, ihre Gedanken zu äussern und auch auf die Aussagen anderer zu reagieren. Der Philosoph Dr. Peter Wyss macht jeweils eine kurze Einführung ins Thema und moderiert und leitet die Diskussionen. \nWir bitten um eine vorgängige Anmeldung bis spätestens am Vortag. Kollekte.
URL:https://burgdorf-im-wandel.ch/agenda/ist-freiwilliger-verzicht-notwendig-fuer-ein-gelingendes-leben-philosophischer-salon/
LOCATION:Stadtbibliothek\, Bernstrasse 7\, Burgdorf\, 3400
END:VEVENT
BEGIN:VEVENT
DTSTART;TZID=Europe/Zurich:20250503T130000
DTEND;TZID=Europe/Zurich:20250503T173000
DTSTAMP:20260420T112206
CREATED:20250210T145332Z
LAST-MODIFIED:20250321T103101Z
UID:24335-1746277200-1746293400@burgdorf-im-wandel.ch
SUMMARY:Pflanzentauschbörse - Zimmerpflanzen
DESCRIPTION:Du hast schon alle deine Freund:innen versorgt mit Ablegern von deinen Pflanze\, aber wegschmeissen bringst du auch nicht übers Herz? Bring sie an unsere Zimmerpflanzenbörse! \nDu findest: \n\nZimmerpflanzen (Ableger\, ganze Pflanze\, mit/ohne Topf\,..)\,\nUmtopfstation\nAustausch mit anderen über Pflanzen\, Tipps von vorherigen Besitzer:innen zur Pflege\n\n12:45 – 13:45 Pflanzen und Material bringen\, beschriften \n14:00 – 17:30 Pflanzentausch und Eintopfen \nDu hast Pflanzen die du weitergeben möchtest\, dir passt das Datum nicht. Melde dich\, wir finden eine Lösung! \nFlyerhttps://burgdorf-im-wandel.ch/wp-content/uploads/2025/03/Pflanzentauschboerse-.pdf
URL:https://burgdorf-im-wandel.ch/agenda/pflanzentauschboerse-zimmerpflanzen/
LOCATION:El Beledia\, Kornhausgasse 12\, Burgdorf\, 3400
ATTACH;FMTTYPE=image/jpeg:https://burgdorf-im-wandel.ch/wp-content/uploads/2025/03/Logo-mit-Schrift-2025.jpg
END:VEVENT
BEGIN:VEVENT
DTSTART;TZID=Europe/Zurich:20250507T193000
DTEND;TZID=Europe/Zurich:20250507T210000
DTSTAMP:20260420T112206
CREATED:20241126T140646Z
LAST-MODIFIED:20250412T171148Z
UID:24104-1746646200-1746651600@burgdorf-im-wandel.ch
SUMMARY:Treffpunkt WandelBar
DESCRIPTION:Wir engagieren uns für ökologische\, nachhaltige Themen in und um Burgdorf. \n\n\n\nDu möchtest etwas bewirken\, aber weisst nicht wo anfangen? \nDu hast eine Idee und möchtest diese teilen / weiterentwickeln? \nDu Arbeitest an einem Projekt mit und möchtest es bekannter machen? \nWunderbar – Komm vorbei und bring jemanden mit. \nWir treffen uns in der Cafeteria des TecLab\, im Erdgeschoss.
URL:https://burgdorf-im-wandel.ch/agenda/treffpunkt-wandelbar-23/
LOCATION:TecLab\, Jlcoweg 1\, Burgdorf\, 3400
ATTACH;FMTTYPE=image/png:https://burgdorf-im-wandel.ch/wp-content/uploads/2025/04/WandelBar.png
ORGANIZER;CN="Burgdorf im Wandel":MAILTO:info@burgdorf-im-wandel.ch
END:VEVENT
BEGIN:VEVENT
DTSTART;TZID=Europe/Zurich:20250510T090000
DTEND;TZID=Europe/Zurich:20250510T150000
DTSTAMP:20260420T112206
CREATED:20250204T094306Z
LAST-MODIFIED:20250423T165153Z
UID:24285-1746867600-1746889200@burgdorf-im-wandel.ch
SUMMARY:Wildpflanzenmarkt
DESCRIPTION:Bereits zum dritten Mal findet auf der Gebrüder-Schnell- Terrasse der Wildpflanzenmärit statt: Ein Treffpunkt der Vielfalt rund um die Natur.\nPro Natura widmet sich dem Thema “invasive Neophyten”.\nEs besteht bereits eine kunterbunte Gruppe\, die mit Säcken ausgerüstet im öffentlichen Raum jätet. Über diese gesellige\, motivierende und sinnvolle Arbeit möchten wir informieren.\nFlora di Berna verkauft wiederum verschiedene Wildpflanzen (>80 Arten)\, die sich für den Privatgarten oder den Balkon eignen. Individuelle Beratung inbegriffen.\n\nFlyer
URL:https://burgdorf-im-wandel.ch/agenda/wildpflanzenmarkt-2/
LOCATION:Gebrüder Schnell Terrasse\, Burgdorf\, 3400\, Switzerland
ATTACH;FMTTYPE=image/png:https://burgdorf-im-wandel.ch/wp-content/uploads/2025/04/Wildpflanzen-3.png
END:VEVENT
BEGIN:VEVENT
DTSTART;TZID=Europe/Zurich:20250510T090000
DTEND;TZID=Europe/Zurich:20250510T160000
DTSTAMP:20260420T112206
CREATED:20250204T095148Z
LAST-MODIFIED:20250204T095252Z
UID:24288-1746867600-1746892800@burgdorf-im-wandel.ch
SUMMARY:Natureinsatz auf dem Bauernhof
DESCRIPTION:In Rumendingen bei Burgdorf liegt ein Hof mit vielen\nvorbildlichen Elementen zur Förderung der Biodiversität. Pro Natura und WWF unterstützen die Familie bei der Pflege und der Aufwertung. Wir mähen bei den neu gepflanzten Buschgruppen\, legen Ast- und Steinhaufen an. \nWeitere Infos und Anmeldung auf unserer Webseite:\nwww.pronatura-be.ch/de/unteremmental \nFlyer
URL:https://burgdorf-im-wandel.ch/agenda/natureinsatz-auf-dem-bauernhof/
LOCATION:Bauernhof\, Rumendingen\, Rumendingen
ATTACH;FMTTYPE=image/jpeg:https://burgdorf-im-wandel.ch/wp-content/uploads/2023/02/prona-logo_uem_rgb-e1709553199526.jpg
ORGANIZER;CN="Pro Natura Unteremmental":MAILTO:hedinger@bluewin.ch
END:VEVENT
BEGIN:VEVENT
DTSTART;TZID=Europe/Zurich:20250510T100000
DTEND;TZID=Europe/Zurich:20250510T130000
DTSTAMP:20260420T112206
CREATED:20250415T085259Z
LAST-MODIFIED:20250416T065529Z
UID:24467-1746871200-1746882000@burgdorf-im-wandel.ch
SUMMARY:LeihBar - Eröffnung
DESCRIPTION:Am 10. Mai ist es so weit! Die LeihBar Burgdorf in der Hofstatt 5 in der Oberstadt startet ihr Angebot.\n10 – 11 Uhr: Eröffnungs-Anlass\, mit Begrüssungstrunk und Ansprachen\n11 – 13 Uhr: Die LeihBar Burgdorf öffnet das erste Mal ihre Tür für die Ausleihe von Gegenständen \nSchau vorbei\, sieh dich um und erfahre\, wie die LeihBar funktioniert.\nFür die kleinen BesucherInnen wird draussen der fahrende Spielplatz für Abwechslung sorgen. \nwww.leihbar-burgdorf.ch \nFlyer \n  \n 
URL:https://burgdorf-im-wandel.ch/agenda/leihbar-sammeln-von-gefragten-gegenstaenden-3/
LOCATION:Hofstatt 5\, Hofstatt 5\, 3400 Burgdorf\, 3400\, Switzerland
ATTACH;FMTTYPE=image/png:https://burgdorf-im-wandel.ch/wp-content/uploads/2025/02/Logo-LeihBar.png
END:VEVENT
BEGIN:VEVENT
DTSTART;TZID=Europe/Zurich:20250510T100000
DTEND;TZID=Europe/Zurich:20250510T150000
DTSTAMP:20260420T112206
CREATED:20250107T090644Z
LAST-MODIFIED:20250107T090644Z
UID:24181-1746871200-1746889200@burgdorf-im-wandel.ch
SUMMARY:Repair Café
DESCRIPTION:Im Repair Café Burgdorf repariert ihr mit Hilfe von Profis kostenlos eure Lieblingsobjekte und geniesst dabei Kaffee & Kuchen.\n\n\n\n\n\n\n\n\n\n\n\n\n\n\n\n\n\n\n\n\n\n\n\nSeien es Spielsachen\, kleinere Möbel\, von Viren befallene Computer\, defekte Handys oder verlöcherte Kleider. Die Fachmänner und Frauen versuchen diese und andere Sachen wieder zum Laufen zu bringen und ihnen zu neuem Leben zu verhelfen.\n\n\nDas Repair Café in Burgdorf wird vom gemeinnützigen Frauenverein durchgeführt. Es findet im Keller bei Stiftung Intact an der Kirchbergstrasse 21 statt.\n\n\nDas Angebot vom Repair Café ist gratis. Komm vorbei. Wir freuen uns auf dich und zahlreiche defekte Gegenstände.
URL:https://burgdorf-im-wandel.ch/agenda/repair-cafe-13/
LOCATION:Stiftung Intact\, Kirchbergstrasse 21\, Burgdorf\, 3400\, Switzerland
ATTACH;FMTTYPE=image/jpeg:https://burgdorf-im-wandel.ch/wp-content/uploads/2023/01/Logo-Repair-Cafe-Burgdorf-GFV-Burgdorf-e1674570862461.jpg
END:VEVENT
BEGIN:VEVENT
DTSTART;TZID=Europe/Zurich:20250513T200000
DTEND;TZID=Europe/Zurich:20250513T220000
DTSTAMP:20260420T112206
CREATED:20250505T155428Z
LAST-MODIFIED:20250505T160443Z
UID:24494-1747166400-1747173600@burgdorf-im-wandel.ch
SUMMARY:Film Greina
DESCRIPTION:  \nAm 13. Mai um 20 Uhr zeigt das Forum für Architektur und Gesellschaft fag Burgdorf im Kino Krone den Film “Greina”\, bei dem es um die Verhinderung eines Stausees auf der Greina-Ebene geht. Es ist ein sehr persönlicher Film des Regisseurs Patrick Thurston\, wunderbar poetisch. \nEintritt frei. Kollekte. \n  \nFlyer
URL:https://burgdorf-im-wandel.ch/agenda/24494/
LOCATION:Kino Krone\, Hohengasse 25\, Burgdorf\, 3400
ATTACH;FMTTYPE=image/png:https://burgdorf-im-wandel.ch/wp-content/uploads/2025/05/Film_Greina.png
END:VEVENT
BEGIN:VEVENT
DTSTART;TZID=Europe/Zurich:20250524T063000
DTEND;TZID=Europe/Zurich:20250524T150000
DTSTAMP:20260420T112206
CREATED:20250217T160613Z
LAST-MODIFIED:20250217T160723Z
UID:24391-1748068200-1748098800@burgdorf-im-wandel.ch
SUMMARY:Exkursion "Längi Stude"
DESCRIPTION:Mit Benjamin Pfäffli spazieren wir vom Bahnhof Müntschemier in das Kiesbaugebiet der Firma Gugger – Dauer ca. 20 Min. Die abgebauten Bereiche wurden mit blütenreichen Wiesen und Hecken rekultiviert. Wir begegnen Neuntöter\, Dorngrasmücke\, Nachtigall und vielem mehr. \nAnmeldung bis 17.5.25 \nFlyer
URL:https://burgdorf-im-wandel.ch/agenda/exkursion-laengi-stude/
LOCATION:Burgdorf
ATTACH;FMTTYPE=image/png:https://burgdorf-im-wandel.ch/wp-content/uploads/2024/02/Logo-NVB-neu.png
ORGANIZER;CN="Natur- und Vogelschutz Burgdorf und Umgebung 3":MAILTO:nvb.burgdorf@gmx.ch
END:VEVENT
END:VCALENDAR