BEGIN:VCALENDAR
VERSION:2.0
PRODID:-//Verein Burgdorf im Wandel - ECPv6.15.16//NONSGML v1.0//EN
CALSCALE:GREGORIAN
METHOD:PUBLISH
X-ORIGINAL-URL:https://burgdorf-im-wandel.ch
X-WR-CALDESC:Veranstaltungen im Verein Burgdorf im Wandel
REFRESH-INTERVAL;VALUE=DURATION:PT1H
X-Robots-Tag:noindex
X-PUBLISHED-TTL:PT1H
BEGIN:VTIMEZONE
TZID:Europe/Zurich
BEGIN:DAYLIGHT
TZOFFSETFROM:+0100
TZOFFSETTO:+0200
TZNAME:CEST
DTSTART:20240331T010000
END:DAYLIGHT
BEGIN:STANDARD
TZOFFSETFROM:+0200
TZOFFSETTO:+0100
TZNAME:CET
DTSTART:20241027T010000
END:STANDARD
BEGIN:DAYLIGHT
TZOFFSETFROM:+0100
TZOFFSETTO:+0200
TZNAME:CEST
DTSTART:20250330T010000
END:DAYLIGHT
BEGIN:STANDARD
TZOFFSETFROM:+0200
TZOFFSETTO:+0100
TZNAME:CET
DTSTART:20251026T010000
END:STANDARD
BEGIN:DAYLIGHT
TZOFFSETFROM:+0100
TZOFFSETTO:+0200
TZNAME:CEST
DTSTART:20260329T010000
END:DAYLIGHT
BEGIN:STANDARD
TZOFFSETFROM:+0200
TZOFFSETTO:+0100
TZNAME:CET
DTSTART:20261025T010000
END:STANDARD
END:VTIMEZONE
BEGIN:VEVENT
DTSTART;TZID=Europe/Zurich:20250806T193000
DTEND;TZID=Europe/Zurich:20250806T210000
DTSTAMP:20260420T144624
CREATED:20241126T140829Z
LAST-MODIFIED:20250412T171333Z
UID:24110-1754508600-1754514000@burgdorf-im-wandel.ch
SUMMARY:Treffpunkt WandelBar
DESCRIPTION:Wir engagieren uns für ökologische\, nachhaltige Themen in und um Burgdorf. \n\n\n\nDu möchtest etwas bewirken\, aber weisst nicht wo anfangen? \nDu hast eine Idee und möchtest diese teilen / weiterentwickeln? \nDu Arbeitest an einem Projekt mit und möchtest es bekannter machen? \nWunderbar – Komm vorbei und bring jemanden mit. \nWir treffen uns in der Cafeteria des TecLab\, im Erdgeschoss.
URL:https://burgdorf-im-wandel.ch/agenda/treffpunkt-wandelbar-26/
LOCATION:TecLab\, Jlcoweg 1\, Burgdorf\, 3400
ATTACH;FMTTYPE=image/png:https://burgdorf-im-wandel.ch/wp-content/uploads/2025/04/WandelBar.png
ORGANIZER;CN="Burgdorf im Wandel":MAILTO:info@burgdorf-im-wandel.ch
END:VEVENT
BEGIN:VEVENT
DTSTART;TZID=Europe/Zurich:20250809T193000
DTEND;TZID=Europe/Zurich:20250809T220000
DTSTAMP:20260420T144624
CREATED:20250204T101154Z
LAST-MODIFIED:20250204T101233Z
UID:24300-1754767800-1754776800@burgdorf-im-wandel.ch
SUMMARY:Fledermauspirsch in Burgdorf Schachenwald
DESCRIPTION:Beim Eindunkeln sind die Fledermäuse auf Nahrungssuche. Mit Hilfe von Fledermausgeräten können diese bei ihrer Tätigkeit geortet werden. Eine Fledermausspezialistin vermittelt uns zuerst interessantes Wissen zu den Fledermäusen und dann verfolgen wir den Flug der Tiere im Gelände. \nDie Abendexkursion ist auch für Kinder ab der ersten Klasse in Begleitung Erwachsener geeignet.\nHinweis: Bei Regen kann die Exkursion nicht durchgeführt werden. \nLeitung: Martha Waeger (Fledermausspezialistin)\,\nChristine Müller (Biologin\, Pro Natura).\nTreffpunkt: Ort wird den Angemeldeten bekannt gegeben. \nMitbringen: kleine Taschenlampe\, ev. kleine\nSitzgelegenheit.\nUnkostenbeitrag: 10.- pro erwachsene Person\nAnmeldung: bis 4.8.2025 \nFlyer
URL:https://burgdorf-im-wandel.ch/agenda/fledermauspirsch-in-burgdorf-schachenwald/
LOCATION:Burgdorf
ATTACH;FMTTYPE=image/jpeg:https://burgdorf-im-wandel.ch/wp-content/uploads/2023/02/prona-logo_uem_rgb-e1709553199526.jpg
ORGANIZER;CN="Pro Natura Unteremmental":MAILTO:hedinger@bluewin.ch
END:VEVENT
BEGIN:VEVENT
DTSTART;TZID=Europe/Zurich:20250813T140000
DTEND;TZID=Europe/Zurich:20250813T170000
DTSTAMP:20260420T144624
CREATED:20250729T095459Z
LAST-MODIFIED:20250729T095728Z
UID:24613-1755093600-1755104400@burgdorf-im-wandel.ch
SUMMARY:Gartencafé und Kräuterquiz
DESCRIPTION:Beim gemütlichen Zusammensitzen wird geplaudert und Wissen ausgetauscht. Dazu gibt’s Café und Kuchen. Wer will umrundet den kleinen Garten und löst das Kräuterquiz.
URL:https://burgdorf-im-wandel.ch/agenda/gartencafe-und-kraeuterquiz/
LOCATION:Maritzsrasse 4\, Maritzstrasse 4\, Burgdorf
END:VEVENT
BEGIN:VEVENT
DTSTART;TZID=Europe/Zurich:20250816T100000
DTEND;TZID=Europe/Zurich:20250816T150000
DTSTAMP:20260420T144624
CREATED:20250107T090727Z
LAST-MODIFIED:20250107T090727Z
UID:24183-1755338400-1755356400@burgdorf-im-wandel.ch
SUMMARY:Repair Café
DESCRIPTION:Im Repair Café Burgdorf repariert ihr mit Hilfe von Profis kostenlos eure Lieblingsobjekte und geniesst dabei Kaffee & Kuchen.\n\n\n\n\n\n\n\n\n\n\n\n\n\n\n\n\n\n\n\n\n\n\n\nSeien es Spielsachen\, kleinere Möbel\, von Viren befallene Computer\, defekte Handys oder verlöcherte Kleider. Die Fachmänner und Frauen versuchen diese und andere Sachen wieder zum Laufen zu bringen und ihnen zu neuem Leben zu verhelfen.\n\n\nDas Repair Café in Burgdorf wird vom gemeinnützigen Frauenverein durchgeführt. Es findet im Keller bei Stiftung Intact an der Kirchbergstrasse 21 statt.\n\n\nDas Angebot vom Repair Café ist gratis. Komm vorbei. Wir freuen uns auf dich und zahlreiche defekte Gegenstände.
URL:https://burgdorf-im-wandel.ch/agenda/repair-cafe-14/
LOCATION:Stiftung Intact\, Kirchbergstrasse 21\, Burgdorf\, 3400\, Switzerland
ATTACH;FMTTYPE=image/jpeg:https://burgdorf-im-wandel.ch/wp-content/uploads/2023/01/Logo-Repair-Cafe-Burgdorf-GFV-Burgdorf-e1674570862461.jpg
END:VEVENT
BEGIN:VEVENT
DTSTART;TZID=Europe/Zurich:20250822T190000
DTEND;TZID=Europe/Zurich:20250822T210000
DTSTAMP:20260420T144624
CREATED:20250412T172630Z
LAST-MODIFIED:20250729T094515Z
UID:24465-1755889200-1755896400@burgdorf-im-wandel.ch
SUMMARY:nachhaltig geniessen
DESCRIPTION:Fachreferat mit anschliessender Fragerunde plus Degustation. \nweitere Informationen werden folgen \n  \nGemeinsameVeranstaltung von Burgdorf-im-Wandel Quartierverein Nord  und TecLab \nFlyer
URL:https://burgdorf-im-wandel.ch/agenda/nachhaltig-geniessen/
LOCATION:TecLab\, Jlcoweg 1\, Burgdorf\, 3400
ORGANIZER;CN="Burgdorf im Wandel":MAILTO:info@burgdorf-im-wandel.ch
END:VEVENT
BEGIN:VEVENT
DTSTART;TZID=Europe/Zurich:20250824T100000
DTEND;TZID=Europe/Zurich:20250824T160000
DTSTAMP:20260420T144624
CREATED:20250204T101633Z
LAST-MODIFIED:20250204T101633Z
UID:24302-1756029600-1756051200@burgdorf-im-wandel.ch
SUMMARY:Biodiversität im Ballenberg
DESCRIPTION:Ballenberg – das sind nicht nur alte Häuser und Handwerk. Eingebettet in eine vielfältige Landschaft sind dort auch viele besondere Tiere und Pflanzen daheim. Die Biodiversität ist 2025 das Jahresthema auf dem Ballenberg. Wir erfahren auf der Tagesexkursion dank spezieller Führung\, welche Pflanzen und Tiere in und um die historischen Gebäude leben. Für Überraschungen ist gesorgt! \nKinder ab 3. Klasse in Begleitung von Erwachsenen sind\nwillkommen.\nLeitung: Christian Hedinger\, Biologe \nAnmeldung erforderlich \nFlyer
URL:https://burgdorf-im-wandel.ch/agenda/biodiversitaet-im-ballenberg/
LOCATION:Ballenberg Freilichmuseum\, Ballenberg
ATTACH;FMTTYPE=image/jpeg:https://burgdorf-im-wandel.ch/wp-content/uploads/2023/02/prona-logo_uem_rgb-e1709553199526.jpg
ORGANIZER;CN="Pro Natura Unteremmental":MAILTO:hedinger@bluewin.ch
END:VEVENT
BEGIN:VEVENT
DTSTART;TZID=Europe/Zurich:20250826T190000
DTEND;TZID=Europe/Zurich:20250826T210000
DTSTAMP:20260420T144624
CREATED:20250816T150210Z
LAST-MODIFIED:20250816T150330Z
UID:24635-1756234800-1756242000@burgdorf-im-wandel.ch
SUMMARY:Politstammtisch - mit 3 jungen burgdorfer Stadträtinnen
DESCRIPTION:Wie können wir Burgdorf klimafreundlicher gestalten? \nWas gibt es in Burgdorf\, das du schon immer verändern wolltest? \nWelche Aufgaben haben wir als Stadträtinnen? \nWie können wir ein Burgdorf für alle schaffen? \nsage es uns! mit: \nTanja Blume – SP \nVicky Müller – Grüne \nBeryll Veraguth – EVP \n  \nOffen für Alle! kein Vorwissen nötig! \n  \nFlyer
URL:https://burgdorf-im-wandel.ch/agenda/politstammtisch-mit-3-jungen-burgdorfer-stadtraetinnen/
LOCATION:El Beledia\, Kornhausgasse 12\, Burgdorf\, 3400
ATTACH;FMTTYPE=image/jpeg:https://burgdorf-im-wandel.ch/wp-content/uploads/2025/03/Logo-mit-Schrift-2025.jpg
END:VEVENT
END:VCALENDAR