BEGIN:VCALENDAR
VERSION:2.0
PRODID:-//Verein Burgdorf im Wandel - ECPv6.15.16//NONSGML v1.0//EN
CALSCALE:GREGORIAN
METHOD:PUBLISH
X-ORIGINAL-URL:https://burgdorf-im-wandel.ch
X-WR-CALDESC:Veranstaltungen im Verein Burgdorf im Wandel
REFRESH-INTERVAL;VALUE=DURATION:PT1H
X-Robots-Tag:noindex
X-PUBLISHED-TTL:PT1H
BEGIN:VTIMEZONE
TZID:Europe/Zurich
BEGIN:DAYLIGHT
TZOFFSETFROM:+0100
TZOFFSETTO:+0200
TZNAME:CEST
DTSTART:20250330T010000
END:DAYLIGHT
BEGIN:STANDARD
TZOFFSETFROM:+0200
TZOFFSETTO:+0100
TZNAME:CET
DTSTART:20251026T010000
END:STANDARD
BEGIN:DAYLIGHT
TZOFFSETFROM:+0100
TZOFFSETTO:+0200
TZNAME:CEST
DTSTART:20260329T010000
END:DAYLIGHT
BEGIN:STANDARD
TZOFFSETFROM:+0200
TZOFFSETTO:+0100
TZNAME:CET
DTSTART:20261025T010000
END:STANDARD
BEGIN:DAYLIGHT
TZOFFSETFROM:+0100
TZOFFSETTO:+0200
TZNAME:CEST
DTSTART:20270328T010000
END:DAYLIGHT
BEGIN:STANDARD
TZOFFSETFROM:+0200
TZOFFSETTO:+0100
TZNAME:CET
DTSTART:20271031T010000
END:STANDARD
END:VTIMEZONE
BEGIN:VEVENT
DTSTART;TZID=Europe/Zurich:20260601T080000
DTEND;TZID=Europe/Zurich:20260601T120000
DTSTAMP:20260423T110758
CREATED:20260112T194754Z
LAST-MODIFIED:20260112T202854Z
UID:24961-1780300800-1780315200@burgdorf-im-wandel.ch
SUMMARY:Neophyten- Halbtag im Juni
DESCRIPTION:Wir sagen Berufskraut & Co. den Kampf an! \nGenaues Datum und Details folgen! \nFlyer
URL:https://burgdorf-im-wandel.ch/agenda/neophyten-halbtag-im-juni/
LOCATION:Ort noch offen
ATTACH;FMTTYPE=image/png:https://burgdorf-im-wandel.ch/wp-content/uploads/2024/08/Logo_fnp-fna.png
END:VEVENT
BEGIN:VEVENT
DTSTART;TZID=Europe/Zurich:20260603T193000
DTEND;TZID=Europe/Zurich:20260603T210000
DTSTAMP:20260423T110758
CREATED:20251202T112104Z
LAST-MODIFIED:20251202T112104Z
UID:24912-1780515000-1780520400@burgdorf-im-wandel.ch
SUMMARY:Treffpunkt WandelBar
DESCRIPTION:Wir engagieren uns für ökologische\, nachhaltige Themen in und um Burgdorf. \n\n\n\nDu möchtest etwas bewirken\, aber weisst nicht wo anfangen? \nDu hast eine Idee und möchtest diese teilen / weiterentwickeln? \nDu Arbeitest an einem Projekt mit und möchtest es bekannter machen? \nWunderbar – Komm vorbei und bring jemanden mit. \nWir treffen uns in der Cafeteria des TecLab\, im Erdgeschoss.
URL:https://burgdorf-im-wandel.ch/agenda/treffpunkt-wandelbar-35/
LOCATION:TecLab\, Jlcoweg 1\, Burgdorf\, 3400
ATTACH;FMTTYPE=image/png:https://burgdorf-im-wandel.ch/wp-content/uploads/2025/04/WandelBar.png
ORGANIZER;CN="Burgdorf im Wandel":MAILTO:info@burgdorf-im-wandel.ch
END:VEVENT
BEGIN:VEVENT
DTSTART;TZID=Europe/Zurich:20260613T180000
DTEND;TZID=Europe/Zurich:20260613T230000
DTSTAMP:20260423T110758
CREATED:20260112T200243Z
LAST-MODIFIED:20260112T202919Z
UID:24971-1781373600-1781391600@burgdorf-im-wandel.ch
SUMMARY:Naturschutzgebietspflege - Grillabend
DESCRIPTION:Gemeinsames Grillieren mit Familie und Freunden in Angies Garten. \nSa 13.Juni oder So 14.Juni \nDetails und Einladung folgen \nFlyer
URL:https://burgdorf-im-wandel.ch/agenda/naturschutzgebietspflege-grillabend-2/
LOCATION:Blockhaus Hurst\, Switzerland
ATTACH;FMTTYPE=image/png:https://burgdorf-im-wandel.ch/wp-content/uploads/2024/08/Logo_fnp-fna.png
END:VEVENT
BEGIN:VEVENT
DTSTART;TZID=Europe/Zurich:20260621T093000
DTEND;TZID=Europe/Zurich:20260621T160000
DTSTAMP:20260423T110758
CREATED:20260126T112358Z
LAST-MODIFIED:20260126T112358Z
UID:25017-1782034200-1782057600@burgdorf-im-wandel.ch
SUMMARY:Kräuterwanderung Trub
DESCRIPTION:Im oberen Emmental unterwegs um essbare Wildkräuter und Heilpflanzen zu entdecken. Natürlich auch das Chörblichrut. Auf dem Permakulturhof Balmeggberg\, wo eine Plantage dieser Pflanze steht\, gibt es ein Mittagessen mit kulinarischem Schwerpunkt Chörblichrut ( auch Süssdolde/Myrrhis odorata genannt). \nTreffpunkt Trub\, wird den Angemeldeten bekannt gegeben. \nKosten: Fr. 40.- inkl. Zmittag\, Getränke\, Dessert\, Kaffee \nAnmeldung bis 14. Juni  unter: unteremmental@pronatura.ch \nFlyer
URL:https://burgdorf-im-wandel.ch/agenda/kraeuterwanderung-trub/
LOCATION:Gertsch Museum
ATTACH;FMTTYPE=image/jpeg:https://burgdorf-im-wandel.ch/wp-content/uploads/2023/02/prona-logo_uem_rgb-e1709553199526.jpg
ORGANIZER;CN="Pro Natura Unteremmental":MAILTO:hedinger@bluewin.ch
END:VEVENT
BEGIN:VEVENT
DTSTART;VALUE=DATE:20260627
DTEND;VALUE=DATE:20260628
DTSTAMP:20260423T110758
CREATED:20260214T161855Z
LAST-MODIFIED:20260214T162002Z
UID:25063-1782518400-1782604799@burgdorf-im-wandel.ch
SUMMARY:Phänomene des Jura-Karst
DESCRIPTION:Nach dem Besuch der Moulins souterrains lassen wir\nuns per Bus nach Les Brenets führen\, gondeln mit dem\nSchiff zum Saut du Doubs und sind gespannt\, was wir\nvon Christian zu dieser Karstlandschaft lernen. Zu Fuss\ngeht’s auf gutem Weg retour nach Les Brenets.\nInfos und Kosten siehe Flyer.\nAnmelden bei Marianne Dafflon\n076 421 24 86\, dafflon-prisching@bluewin.ch \nFlyer
URL:https://burgdorf-im-wandel.ch/agenda/phaenomene-des-jura-karst/
LOCATION:Jura
ATTACH;FMTTYPE=image/png:https://burgdorf-im-wandel.ch/wp-content/uploads/2024/02/Logo-NVB-neu.png
ORGANIZER;CN="Natur- und Vogelschutz Burgdorf und Umgebung 3":MAILTO:nvb.burgdorf@gmx.ch
END:VEVENT
END:VCALENDAR