BEGIN:VCALENDAR
VERSION:2.0
PRODID:-//Verein Burgdorf im Wandel - ECPv6.15.16//NONSGML v1.0//EN
CALSCALE:GREGORIAN
METHOD:PUBLISH
X-ORIGINAL-URL:https://burgdorf-im-wandel.ch
X-WR-CALDESC:Veranstaltungen im Verein Burgdorf im Wandel
REFRESH-INTERVAL;VALUE=DURATION:PT1H
X-Robots-Tag:noindex
X-PUBLISHED-TTL:PT1H
BEGIN:VTIMEZONE
TZID:Europe/Zurich
BEGIN:DAYLIGHT
TZOFFSETFROM:+0100
TZOFFSETTO:+0200
TZNAME:CEST
DTSTART:20250330T010000
END:DAYLIGHT
BEGIN:STANDARD
TZOFFSETFROM:+0200
TZOFFSETTO:+0100
TZNAME:CET
DTSTART:20251026T010000
END:STANDARD
BEGIN:DAYLIGHT
TZOFFSETFROM:+0100
TZOFFSETTO:+0200
TZNAME:CEST
DTSTART:20260329T010000
END:DAYLIGHT
BEGIN:STANDARD
TZOFFSETFROM:+0200
TZOFFSETTO:+0100
TZNAME:CET
DTSTART:20261025T010000
END:STANDARD
BEGIN:DAYLIGHT
TZOFFSETFROM:+0100
TZOFFSETTO:+0200
TZNAME:CEST
DTSTART:20270328T010000
END:DAYLIGHT
BEGIN:STANDARD
TZOFFSETFROM:+0200
TZOFFSETTO:+0100
TZNAME:CET
DTSTART:20271031T010000
END:STANDARD
END:VTIMEZONE
BEGIN:VEVENT
DTSTART;TZID=Europe/Zurich:20260805T193000
DTEND;TZID=Europe/Zurich:20260805T210000
DTSTAMP:20260421T134127
CREATED:20251202T112311Z
LAST-MODIFIED:20251202T112311Z
UID:24918-1785958200-1785963600@burgdorf-im-wandel.ch
SUMMARY:Treffpunkt WandelBar
DESCRIPTION:Wir engagieren uns für ökologische\, nachhaltige Themen in und um Burgdorf. \n\n\n\nDu möchtest etwas bewirken\, aber weisst nicht wo anfangen? \nDu hast eine Idee und möchtest diese teilen / weiterentwickeln? \nDu Arbeitest an einem Projekt mit und möchtest es bekannter machen? \nWunderbar – Komm vorbei und bring jemanden mit. \nWir treffen uns in der Cafeteria des TecLab\, im Erdgeschoss.
URL:https://burgdorf-im-wandel.ch/agenda/treffpunkt-wandelbar-38/
LOCATION:TecLab\, Jlcoweg 1\, Burgdorf\, 3400
ATTACH;FMTTYPE=image/png:https://burgdorf-im-wandel.ch/wp-content/uploads/2025/04/WandelBar.png
ORGANIZER;CN="Burgdorf im Wandel":MAILTO:info@burgdorf-im-wandel.ch
END:VEVENT
BEGIN:VEVENT
DTSTART;TZID=Europe/Zurich:20260816T140000
DTEND;TZID=Europe/Zurich:20260816T170000
DTSTAMP:20260421T134127
CREATED:20260126T112532Z
LAST-MODIFIED:20260126T112532Z
UID:25019-1786888800-1786899600@burgdorf-im-wandel.ch
SUMMARY:Jahreszeitenrundgang Sommer
DESCRIPTION:Die Jahreszeitenbilder im Museum Franz Gertsch als Ausgangspunkt und Inspiration. Zu allen vier Jahreszeiten erleben wir auf dem gleichen Rundgang bekannte und überraschende Zusammenhänge in der Natur. Wiese\, Wald\, Emme begegnen uns immer wieder neu. \n14.00 kurzer Besuch im Museum anschliessend Spaziergang ca. 3.5km. \nKosten Fr. 10.- pro Person inkl. Museumseintritt \nAnmeldung 1 Woche vor dem Anlass unter: unteremmental@pronatura.ch \nFlyer
URL:https://burgdorf-im-wandel.ch/agenda/jahreszeitenrundgang-sommer/
LOCATION:Gertsch Museum
ATTACH;FMTTYPE=image/jpeg:https://burgdorf-im-wandel.ch/wp-content/uploads/2023/02/prona-logo_uem_rgb-e1709553199526.jpg
ORGANIZER;CN="Pro Natura Unteremmental":MAILTO:hedinger@bluewin.ch
END:VEVENT
BEGIN:VEVENT
DTSTART;TZID=Europe/Zurich:20260822T100000
DTEND;TZID=Europe/Zurich:20260822T150000
DTSTAMP:20260421T134127
CREATED:20260305T163236Z
LAST-MODIFIED:20260305T163353Z
UID:25126-1787392800-1787410800@burgdorf-im-wandel.ch
SUMMARY:Repair Café
DESCRIPTION:Neu: in der Kulturhalle  Sägegasse!!!\n\nIm Repair Café Burgdorf repariert ihr mit Hilfe von Profis kostenlos eure Lieblingsobjekte und geniesst dabei Kaffee & Kuchen.\n\n\n\n\n\n\n\n\n\n\n\n\n\n\n\n\n\n\n\n\n\n\n\nSeien es Spielsachen\, kleinere Möbel\, von Viren befallene Computer\, defekte Handys oder verlöcherte Kleider. Die Fachmänner und Frauen versuchen diese und andere Sachen wieder zum Laufen zu bringen und ihnen zu neuem Leben zu verhelfen.\n\n\nDas Repair Café in Burgdorf wird vom gemeinnützigen Frauenverein durchgeführt. Es findet im Keller bei Stiftung Intact an der Kirchbergstrasse 21 statt.\n\n\nDas Angebot vom Repair Café ist gratis. Komm vorbei. Wir freuen uns auf dich und zahlreiche defekte Gegenstände.
URL:https://burgdorf-im-wandel.ch/agenda/repair-cafe-19/
LOCATION:Kulturhalle Sägegasse\, Sägegasse 17\, Burgdorf\, 3400
ATTACH;FMTTYPE=image/jpeg:https://burgdorf-im-wandel.ch/wp-content/uploads/2023/01/Logo-Repair-Cafe-Burgdorf-GFV-Burgdorf-e1674570862461.jpg
END:VEVENT
BEGIN:VEVENT
DTSTART;TZID=Europe/Zurich:20260822T100000
DTEND;TZID=Europe/Zurich:20260822T160000
DTSTAMP:20260421T134127
CREATED:20260126T112851Z
LAST-MODIFIED:20260126T113408Z
UID:25021-1787392800-1787414400@burgdorf-im-wandel.ch
SUMMARY:Biodiversität auf dem Ballenberg
DESCRIPTION:Ballenberg – das sind nicht nur alte Häuser und Handwerk. Eingebettet in eine vielfältige Landschaft sind dort auch viele besondere Tiere und Pflanzen daheim. Die Biodiversität ist 2026 das Jahresthema auf dem Ballenberg. Wir erfahren auf der Tagesexkursion dank spezieller Führung\, welche einheimischen Pflanzen und Tiere in und um die historischen Gebäude leben. Für Überraschungen ist gesorgt! \nKinder ab 3. Klasse in Begleitung von Erwachsenen sind\nwillkommen. \nMitbringen: Picknick\, wer hat Fernglas und Lupe \nKosten: Fr. 10.- pro erw. Person für die Führung \nindividuelle Anreise \, Eintritt (Museumspass gültig) \nAnmeldung bis 15.Aug unter  unteremmental@pronatura.ch\nLeitung: Christian Hedinger\, Biologe \nFlyer \n 
URL:https://burgdorf-im-wandel.ch/agenda/biodiversitaet-auf-dem-ballenberg/
LOCATION:Ballenberg Freilichmuseum\, Ballenberg
ATTACH;FMTTYPE=image/jpeg:https://burgdorf-im-wandel.ch/wp-content/uploads/2023/02/prona-logo_uem_rgb-e1709553199526.jpg
ORGANIZER;CN="Pro Natura Unteremmental":MAILTO:hedinger@bluewin.ch
END:VEVENT
BEGIN:VEVENT
DTSTART;TZID=Europe/Zurich:20260823T133000
DTEND;TZID=Europe/Zurich:20260823T160000
DTSTAMP:20260421T134127
CREATED:20251202T113543Z
LAST-MODIFIED:20251202T113543Z
UID:24928-1787491800-1787500800@burgdorf-im-wandel.ch
SUMMARY:Wie kann ich meinen Garten/Balkon ökologisch aufwerten?
DESCRIPTION:Ein gemeinsamer Anlass des Quartiervereins Schlossmatt mit Burgdorf-im-Wandel und einem Beitrag der Stadt Burgdorf. \nDer Quartierverein lädt auf einen Spaziergang zu biodiversitätsfreundlichen Gärten und Balkonen ein. wir erkunden zudem\, wie versiegelte und unversiegelte Böden auf unsere Umgebung wirken. \nWeitere Informationen werden folgen.
URL:https://burgdorf-im-wandel.ch/agenda/wie-kann-ich-meinen-garten-balkon-oekologisch-aufwerten/
LOCATION:Burgdorf
ATTACH;FMTTYPE=image/jpeg:https://burgdorf-im-wandel.ch/wp-content/uploads/2024/07/QV-Anlass.jpg
END:VEVENT
BEGIN:VEVENT
DTSTART;VALUE=DATE:20260829
DTEND;VALUE=DATE:20260830
DTSTAMP:20260421T134127
CREATED:20260214T162202Z
LAST-MODIFIED:20260214T162428Z
UID:25066-1787961600-1788047999@burgdorf-im-wandel.ch
SUMMARY:Durch den Mutzbachgraben
DESCRIPTION:Das Mutzbachtäli bei Riedtwil ist ein eigentümlicher\nEinschnitt in die untere Süsswassermolasse mit Wasserfall.\nWir wandern bis Wynigen und erfahren einiges\nzum Relief des Mittellandes\, Erosion und Eiszeit.\nInfos und Kosten siehe Flyer.\nAnmelden bei Marianne Dafflon\n076 421 24 86\, dafflon-prisching@bluewin.ch \nFlyer
URL:https://burgdorf-im-wandel.ch/agenda/durch-den-mutzbachgraben/
LOCATION:Riedtwil
ATTACH;FMTTYPE=image/png:https://burgdorf-im-wandel.ch/wp-content/uploads/2024/02/Logo-NVB-neu.png
ORGANIZER;CN="Natur- und Vogelschutz Burgdorf und Umgebung 3":MAILTO:nvb.burgdorf@gmx.ch
END:VEVENT
BEGIN:VEVENT
DTSTART;TZID=Europe/Zurich:20260829T133000
DTEND;TZID=Europe/Zurich:20260829T163000
DTSTAMP:20260421T134127
CREATED:20260126T114618Z
LAST-MODIFIED:20260126T114618Z
UID:25025-1788010200-1788021000@burgdorf-im-wandel.ch
SUMMARY:Beeren\, Wurzeln und Co.
DESCRIPTION:Der Herbst hält eine Fülle kulinarischer Schätze bereit. Auf einem kurzen Spaziergang durch Garten\, Wiesen und Wald entdecken wir essbare Wildbeeren\, Samen und Wurzeln\, bestimmen diese gemeinsam und sprechen über ihre Verwendung in der Küche. Zum Abschluss  verarbeitet jede teilnehmende Person ausgewählte Wildschätze zum Mitnehmen. \nKosten Fr. 70.- pro Person inkl. Unterlagen \nLeitung: Nathalie Maeder und Marlies Studer \nTreffpunkt: Waldheimweg 1 \, Hindelbank \nAnmeldung bis 28.8.  unter: nathalie@aussenwieinnen.ch \nFlyer
URL:https://burgdorf-im-wandel.ch/agenda/beeren-wurzeln-und-co/
LOCATION:Waldheimweg 1\, Waldheimweg 1\, Hindelbank
ATTACH;FMTTYPE=image/jpeg:https://burgdorf-im-wandel.ch/wp-content/uploads/2023/02/prona-logo_uem_rgb-e1709553199526.jpg
ORGANIZER;CN="Pro Natura Unteremmental":MAILTO:hedinger@bluewin.ch
END:VEVENT
END:VCALENDAR