BEGIN:VCALENDAR
VERSION:2.0
PRODID:-//Verein Burgdorf im Wandel - ECPv6.15.16//NONSGML v1.0//EN
CALSCALE:GREGORIAN
METHOD:PUBLISH
X-WR-CALNAME:Verein Burgdorf im Wandel
X-ORIGINAL-URL:https://burgdorf-im-wandel.ch
X-WR-CALDESC:Veranstaltungen im Verein Burgdorf im Wandel
REFRESH-INTERVAL;VALUE=DURATION:PT1H
X-Robots-Tag:noindex
X-PUBLISHED-TTL:PT1H
BEGIN:VTIMEZONE
TZID:Europe/Zurich
BEGIN:DAYLIGHT
TZOFFSETFROM:+0100
TZOFFSETTO:+0200
TZNAME:CEST
DTSTART:20250330T010000
END:DAYLIGHT
BEGIN:STANDARD
TZOFFSETFROM:+0200
TZOFFSETTO:+0100
TZNAME:CET
DTSTART:20251026T010000
END:STANDARD
BEGIN:DAYLIGHT
TZOFFSETFROM:+0100
TZOFFSETTO:+0200
TZNAME:CEST
DTSTART:20260329T010000
END:DAYLIGHT
BEGIN:STANDARD
TZOFFSETFROM:+0200
TZOFFSETTO:+0100
TZNAME:CET
DTSTART:20261025T010000
END:STANDARD
BEGIN:DAYLIGHT
TZOFFSETFROM:+0100
TZOFFSETTO:+0200
TZNAME:CEST
DTSTART:20270328T010000
END:DAYLIGHT
BEGIN:STANDARD
TZOFFSETFROM:+0200
TZOFFSETTO:+0100
TZNAME:CET
DTSTART:20271031T010000
END:STANDARD
END:VTIMEZONE
BEGIN:VEVENT
DTSTART;VALUE=DATE:20261003
DTEND;VALUE=DATE:20261004
DTSTAMP:20260421T175722
CREATED:20260214T162632Z
LAST-MODIFIED:20260214T162632Z
UID:25071-1790985600-1791071999@burgdorf-im-wandel.ch
SUMMARY:Die Churfirsten verstehen
DESCRIPTION:Wir sind schon zig Mal per Bahn an ihnen vorbeigefahren\nund das Geologieherz hat sich beim Anblick\ndes imposanten Zackenpanoramas gewünscht\,\nsie lesen zu können. Jetzt ist die Gelegenheit da:\nVom Seeufer in Quinten aus erklärt uns Christian den\nAufbau der Churfirsten am Walensee.\nInfos und Kosten siehe Flyer.\nAnmelden bei Marianne Dafflon\n076 421 24 86\, dafflon-prisching@bluewin.ch \nFlyer
URL:https://burgdorf-im-wandel.ch/agenda/die-churfirsten-verstehen/
LOCATION:Walensee
ATTACH;FMTTYPE=image/png:https://burgdorf-im-wandel.ch/wp-content/uploads/2024/02/Logo-NVB-neu.png
ORGANIZER;CN="Natur- und Vogelschutz Burgdorf und Umgebung 3":MAILTO:nvb.burgdorf@gmx.ch
END:VEVENT
BEGIN:VEVENT
DTSTART;VALUE=DATE:20261003
DTEND;VALUE=DATE:20261004
DTSTAMP:20260421T175722
CREATED:20260112T200654Z
LAST-MODIFIED:20260112T203101Z
UID:24973-1790985600-1791071999@burgdorf-im-wandel.ch
SUMMARY:Bickigenmatte - Naturschutzgebietspflege
DESCRIPTION:Heckenpflege und Kopfweiden schneiden – Rohrkolben jäten. \nTreffpunkt: 8.00 h beim Magazin Sägegasse 17\, 3400 Burgdorf  – oder 8.15 h direkt vor Ort. \nAnmeldeschluss: 28.September 2026
URL:https://burgdorf-im-wandel.ch/agenda/bickigenmatte-naturschutzgebietspflege-2/
LOCATION:Bickigenmatte
ATTACH;FMTTYPE=image/png:https://burgdorf-im-wandel.ch/wp-content/uploads/2024/08/Logo_fnp-fna.png
END:VEVENT
BEGIN:VEVENT
DTSTART;VALUE=DATE:20261004
DTEND;VALUE=DATE:20261005
DTSTAMP:20260421T175722
CREATED:20260214T162857Z
LAST-MODIFIED:20260214T162938Z
UID:25074-1791072000-1791158399@burgdorf-im-wandel.ch
SUMMARY:Zugvogeltag auf dem Düttisberg
DESCRIPTION:Im Rahmen des Eurobirdwatch werden wir auf dem\nDüttisberg die durchziehenden Zugvögel beobachten.\nErfahren Sie viel Spannendes rund um den Vogelzug!\nWeitere Informationen ab Sommer 2026 auf der\nHomepage des NVB Burgdorf und Umgebung. \nHome \n\nAuskunft erteilt Iris Baumgartner\n079 515 30 18\, milvus72@gmx.ch \nFlyer
URL:https://burgdorf-im-wandel.ch/agenda/zugvogeltag-auf-dem-duettisberg-3/
LOCATION:Burgdorf
ATTACH;FMTTYPE=image/png:https://burgdorf-im-wandel.ch/wp-content/uploads/2024/02/Logo-NVB-neu.png
ORGANIZER;CN="Natur- und Vogelschutz Burgdorf und Umgebung 3":MAILTO:nvb.burgdorf@gmx.ch
END:VEVENT
BEGIN:VEVENT
DTSTART;TZID=Europe/Zurich:20261007T193000
DTEND;TZID=Europe/Zurich:20261007T210000
DTSTAMP:20260421T175722
CREATED:20251202T112349Z
LAST-MODIFIED:20251202T112349Z
UID:24920-1791401400-1791406800@burgdorf-im-wandel.ch
SUMMARY:Treffpunkt WandelBar
DESCRIPTION:Wir engagieren uns für ökologische\, nachhaltige Themen in und um Burgdorf. \n\n\n\nDu möchtest etwas bewirken\, aber weisst nicht wo anfangen? \nDu hast eine Idee und möchtest diese teilen / weiterentwickeln? \nDu Arbeitest an einem Projekt mit und möchtest es bekannter machen? \nWunderbar – Komm vorbei und bring jemanden mit. \nWir treffen uns in der Cafeteria des TecLab\, im Erdgeschoss.
URL:https://burgdorf-im-wandel.ch/agenda/treffpunkt-wandelbar-39/
LOCATION:TecLab\, Jlcoweg 1\, Burgdorf\, 3400
ATTACH;FMTTYPE=image/png:https://burgdorf-im-wandel.ch/wp-content/uploads/2025/04/WandelBar.png
ORGANIZER;CN="Burgdorf im Wandel":MAILTO:info@burgdorf-im-wandel.ch
END:VEVENT
BEGIN:VEVENT
DTSTART;VALUE=DATE:20261017
DTEND;VALUE=DATE:20261018
DTSTAMP:20260421T175722
CREATED:20260112T201426Z
LAST-MODIFIED:20260112T203124Z
UID:24977-1792195200-1792281599@burgdorf-im-wandel.ch
SUMMARY:Heckenpflege  - Rüegsauschachen
DESCRIPTION:Heckenpflege \nEinsatz gemeinsam mit dem Natur- und Vogelschutz Hasle-Rüegsau \nTreffpunkt  8.00h beim Magazin\, Sägegasse 17\, Burgdorf. Vor Ort 8.15 \nAnmeldeschluss: 12.Okt 2026 \nFlyer
URL:https://burgdorf-im-wandel.ch/agenda/heckenpflege-rueegsauschachen/
LOCATION:Schwarzhäuserngruebe
ATTACH;FMTTYPE=image/png:https://burgdorf-im-wandel.ch/wp-content/uploads/2024/08/Logo_fnp-fna.png
END:VEVENT
BEGIN:VEVENT
DTSTART;TZID=Europe/Zurich:20261018T140000
DTEND;TZID=Europe/Zurich:20261018T170000
DTSTAMP:20260421T175722
CREATED:20260126T115237Z
LAST-MODIFIED:20260126T115237Z
UID:25030-1792332000-1792342800@burgdorf-im-wandel.ch
SUMMARY:Jahreszeitenrundgang Herbst
DESCRIPTION:Die Jahreszeitenbilder im Museum Franz Gertsch als Ausgangspunkt und Inspiration. Zu allen vier Jahreszeiten erleben wir auf dem gleichen Rundgang bekannte und überraschende Zusammenhänge in der Natur. Wiese\, Wald\, Emme begegnen uns immer wieder neu. \n14.00 kurzer Besuch im Museum anschliessend Spaziergang ca. 3.5km. \nKosten Fr. 10.- pro Person inkl. Museumseintritt \nAnmeldung 1 Woche vor dem Anlass unter: unteremmental@pronatura.ch \nFlyer
URL:https://burgdorf-im-wandel.ch/agenda/jahreszeitenrundgang-herbst/
LOCATION:Gertsch Museum
ATTACH;FMTTYPE=image/jpeg:https://burgdorf-im-wandel.ch/wp-content/uploads/2023/02/prona-logo_uem_rgb-e1709553199526.jpg
ORGANIZER;CN="Pro Natura Unteremmental":MAILTO:hedinger@bluewin.ch
END:VEVENT
BEGIN:VEVENT
DTSTART;TZID=Europe/Zurich:20261024T100000
DTEND;TZID=Europe/Zurich:20261024T150000
DTSTAMP:20260421T175722
CREATED:20260305T163443Z
LAST-MODIFIED:20260305T163443Z
UID:25130-1792836000-1792854000@burgdorf-im-wandel.ch
SUMMARY:Repair Café
DESCRIPTION:Neu: in der Kulturhalle  Sägegasse!!!\n\nIm Repair Café Burgdorf repariert ihr mit Hilfe von Profis kostenlos eure Lieblingsobjekte und geniesst dabei Kaffee & Kuchen.\n\n\n\n\n\n\n\n\n\n\n\n\n\n\n\n\n\n\n\n\n\n\n\nSeien es Spielsachen\, kleinere Möbel\, von Viren befallene Computer\, defekte Handys oder verlöcherte Kleider. Die Fachmänner und Frauen versuchen diese und andere Sachen wieder zum Laufen zu bringen und ihnen zu neuem Leben zu verhelfen.\n\n\nDas Repair Café in Burgdorf wird vom gemeinnützigen Frauenverein durchgeführt. Es findet im Keller bei Stiftung Intact an der Kirchbergstrasse 21 statt.\n\n\nDas Angebot vom Repair Café ist gratis. Komm vorbei. Wir freuen uns auf dich und zahlreiche defekte Gegenstände.
URL:https://burgdorf-im-wandel.ch/agenda/repair-cafe-20/
LOCATION:Kulturhalle Sägegasse\, Sägegasse 17\, Burgdorf\, 3400
ATTACH;FMTTYPE=image/jpeg:https://burgdorf-im-wandel.ch/wp-content/uploads/2023/01/Logo-Repair-Cafe-Burgdorf-GFV-Burgdorf-e1674570862461.jpg
END:VEVENT
END:VCALENDAR