BEGIN:VCALENDAR
VERSION:2.0
PRODID:-//Verein Burgdorf im Wandel - ECPv6.15.16//NONSGML v1.0//EN
CALSCALE:GREGORIAN
METHOD:PUBLISH
X-ORIGINAL-URL:https://burgdorf-im-wandel.ch
X-WR-CALDESC:Veranstaltungen im Verein Burgdorf im Wandel
REFRESH-INTERVAL;VALUE=DURATION:PT1H
X-Robots-Tag:noindex
X-PUBLISHED-TTL:PT1H
BEGIN:VTIMEZONE
TZID:Europe/Zurich
BEGIN:DAYLIGHT
TZOFFSETFROM:+0100
TZOFFSETTO:+0200
TZNAME:CEST
DTSTART:20250330T010000
END:DAYLIGHT
BEGIN:STANDARD
TZOFFSETFROM:+0200
TZOFFSETTO:+0100
TZNAME:CET
DTSTART:20251026T010000
END:STANDARD
BEGIN:DAYLIGHT
TZOFFSETFROM:+0100
TZOFFSETTO:+0200
TZNAME:CEST
DTSTART:20260329T010000
END:DAYLIGHT
BEGIN:STANDARD
TZOFFSETFROM:+0200
TZOFFSETTO:+0100
TZNAME:CET
DTSTART:20261025T010000
END:STANDARD
BEGIN:DAYLIGHT
TZOFFSETFROM:+0100
TZOFFSETTO:+0200
TZNAME:CEST
DTSTART:20270328T010000
END:DAYLIGHT
BEGIN:STANDARD
TZOFFSETFROM:+0200
TZOFFSETTO:+0100
TZNAME:CET
DTSTART:20271031T010000
END:STANDARD
END:VTIMEZONE
BEGIN:VEVENT
DTSTART;TZID=Europe/Zurich:20261104T193000
DTEND;TZID=Europe/Zurich:20261104T210000
DTSTAMP:20260421T195231
CREATED:20251202T112423Z
LAST-MODIFIED:20251202T112423Z
UID:24922-1793820600-1793826000@burgdorf-im-wandel.ch
SUMMARY:Treffpunkt WandelBar
DESCRIPTION:Wir engagieren uns für ökologische\, nachhaltige Themen in und um Burgdorf. \n\n\n\nDu möchtest etwas bewirken\, aber weisst nicht wo anfangen? \nDu hast eine Idee und möchtest diese teilen / weiterentwickeln? \nDu Arbeitest an einem Projekt mit und möchtest es bekannter machen? \nWunderbar – Komm vorbei und bring jemanden mit. \nWir treffen uns in der Cafeteria des TecLab\, im Erdgeschoss.
URL:https://burgdorf-im-wandel.ch/agenda/treffpunkt-wandelbar-40/
LOCATION:TecLab\, Jlcoweg 1\, Burgdorf\, 3400
ATTACH;FMTTYPE=image/png:https://burgdorf-im-wandel.ch/wp-content/uploads/2025/04/WandelBar.png
ORGANIZER;CN="Burgdorf im Wandel":MAILTO:info@burgdorf-im-wandel.ch
END:VEVENT
BEGIN:VEVENT
DTSTART;TZID=Europe/Zurich:20261106T193000
DTEND;TZID=Europe/Zurich:20261106T213000
DTSTAMP:20260421T195231
CREATED:20260214T163158Z
LAST-MODIFIED:20260214T163158Z
UID:25076-1793993400-1794000600@burgdorf-im-wandel.ch
SUMMARY:Burgdorf und die letzte Eiszeit
DESCRIPTION:Der Geologe Christian Schlüchter zeigt uns auf\, wie die\nletzte Eiszeit die Gegend rund um Burgdorf verändert\nund gestaltet hat. \nEintritt frei – Kollekte \nFlyer
URL:https://burgdorf-im-wandel.ch/agenda/burgdorf-und-die-letzte-eiszeit/
LOCATION:Kirchengemeindhaus Burgdorf\, Lyssachstrasse 2\, 3400
ATTACH;FMTTYPE=image/png:https://burgdorf-im-wandel.ch/wp-content/uploads/2024/02/Logo-NVB-neu.png
ORGANIZER;CN="Natur- und Vogelschutz Burgdorf und Umgebung 3":MAILTO:nvb.burgdorf@gmx.ch
END:VEVENT
BEGIN:VEVENT
DTSTART;VALUE=DATE:20261107
DTEND;VALUE=DATE:20261108
DTSTAMP:20260421T195231
CREATED:20260112T200909Z
LAST-MODIFIED:20260112T203147Z
UID:24975-1794009600-1794095999@burgdorf-im-wandel.ch
SUMMARY:Sängeliweiher - Naturschutzgebietspflege
DESCRIPTION:Heckenpflege\, Schilf und Rohrkolben jäten. \nNasses Gelände! \nTreffpunkt: 8.00 h beim Magazin Sägegasse 17\, 3400 Burgdorf oder \n8.30 direkt vor Ort. \nAnmeldeschluss: 2. November 2026
URL:https://burgdorf-im-wandel.ch/agenda/saengeliweiher-naturschutzgebietspflege/
LOCATION:Sängeliweiher
ATTACH;FMTTYPE=image/png:https://burgdorf-im-wandel.ch/wp-content/uploads/2024/08/Logo_fnp-fna.png
END:VEVENT
BEGIN:VEVENT
DTSTART;VALUE=DATE:20261121
DTEND;VALUE=DATE:20261122
DTSTAMP:20260421T195231
CREATED:20260112T192728Z
LAST-MODIFIED:20260112T203214Z
UID:24948-1795219200-1795305599@burgdorf-im-wandel.ch
SUMMARY:Heckenpflege  - Schwarzhäuserngrube
DESCRIPTION:Heckenpflege sowie Förderung der typischen Grubenareal-Arten. \nTreffpunkt  8.00h beim Magazin\, Sägegasse 17\, Burgdorf. Vor Ort 8.30 \nAnmeldeschluss: 16.Nov.2026 \nFlyer
URL:https://burgdorf-im-wandel.ch/agenda/heckenpflege-schwarzhaeuserngrube/
LOCATION:Schwarzhäuserngruebe
ATTACH;FMTTYPE=image/png:https://burgdorf-im-wandel.ch/wp-content/uploads/2024/08/Logo_fnp-fna.png
END:VEVENT
BEGIN:VEVENT
DTSTART;TZID=Europe/Zurich:20261127T180000
DTEND;TZID=Europe/Zurich:20261127T213000
DTSTAMP:20260421T195231
CREATED:20260214T163427Z
LAST-MODIFIED:20260214T163427Z
UID:25078-1795802400-1795815000@burgdorf-im-wandel.ch
SUMMARY:Racletteabend
DESCRIPTION:Nach dem gemütlichen Essen sind alle eingeladen\,\nihre Naturfotos oder Filme zu zeigen.\nFotobeiträge bitte in einer Powerpoint-Präsentation\nauf einem USB-Stick mitbringen. \nAnmelden bis 22. November bei Iris Baumgartner\n079 515 30 18\, milvus72@gmx.ch \nFlyer
URL:https://burgdorf-im-wandel.ch/agenda/racletteabend/
LOCATION:SAZ\, Burgergasse 7\, Burgdorf\, 3400
ATTACH;FMTTYPE=image/png:https://burgdorf-im-wandel.ch/wp-content/uploads/2024/02/Logo-NVB-neu.png
ORGANIZER;CN="Natur- und Vogelschutz Burgdorf und Umgebung 3":MAILTO:nvb.burgdorf@gmx.ch
END:VEVENT
END:VCALENDAR